BEGIN:VCALENDAR
VERSION:2.0
PRODID:-//EU GREEN - ECPv6.15.13//NONSGML v1.0//EN
CALSCALE:GREGORIAN
METHOD:PUBLISH
X-WR-CALNAME:EU GREEN
X-ORIGINAL-URL:https://eugreenalliance.eu
X-WR-CALDESC:Events for EU GREEN
REFRESH-INTERVAL;VALUE=DURATION:PT1H
X-Robots-Tag:noindex
X-PUBLISHED-TTL:PT1H
BEGIN:VTIMEZONE
TZID:Europe/Madrid
BEGIN:DAYLIGHT
TZOFFSETFROM:+0100
TZOFFSETTO:+0200
TZNAME:CEST
DTSTART:20250330T010000
END:DAYLIGHT
BEGIN:STANDARD
TZOFFSETFROM:+0200
TZOFFSETTO:+0100
TZNAME:CET
DTSTART:20251026T010000
END:STANDARD
BEGIN:DAYLIGHT
TZOFFSETFROM:+0100
TZOFFSETTO:+0200
TZNAME:CEST
DTSTART:20260329T010000
END:DAYLIGHT
BEGIN:STANDARD
TZOFFSETFROM:+0200
TZOFFSETTO:+0100
TZNAME:CET
DTSTART:20261025T010000
END:STANDARD
BEGIN:DAYLIGHT
TZOFFSETFROM:+0100
TZOFFSETTO:+0200
TZNAME:CEST
DTSTART:20270328T010000
END:DAYLIGHT
BEGIN:STANDARD
TZOFFSETFROM:+0200
TZOFFSETTO:+0100
TZNAME:CET
DTSTART:20271031T010000
END:STANDARD
END:VTIMEZONE
BEGIN:VEVENT
DTSTART;VALUE=DATE:20260601
DTEND;VALUE=DATE:20260606
DTSTAMP:20260421T070342
CREATED:20251204T094107Z
LAST-MODIFIED:20260318T122747Z
UID:101313-1780272000-1780703999@eugreenalliance.eu
SUMMARY:RESEARCHERS WEEK
DESCRIPTION:The EU GREEN Alliance invites students and staff to take part in the Train the Trainer programme  hosted at the University of Angers from May 11 to 13\, 2026. This 2.5-day course is designed to equip participants with the knowledge\, skills\, and attitudes needed to facilitate inclusive\, democratic\, and co-creative learning processes\, with a strong focus on participatory methodologies. Throughout the programme\, participants will engage in hands-on activities\, collaborative sessions\, and practical workshops aimed at developing facilitation skills and designing participatory learning experiences. After completing the training\, participants are expected to transfer and replicate these methods within their home institutions by organising local workshops and initiatives\, contributing to the broader impact of EU GREEN’s approach to sustainability and engagement. The course will take place at the Université d’Angers – Campus Saint Serge and will include interactive formats such as World Café sessions\, participatory design activities\, and simulated workshops\, offering a dynamic and experiential learning environment.  Registration open until April 19 								\n				\n					\n				\n		\n				\n				\n									\n					\n						\n									REGISTRATION HERE\n					\n					\n				\n								\n				\n				\n				\n									\n					\n						\n									DOWNLOAD FULL INFO
URL:https://eugreenalliance.eu/event/researchers-week/
LOCATION:Otto-von-Guericke Universität Magdeburg\, Germany
CATEGORIES:EU GREEN event
ATTACH;FMTTYPE=image/png:https://eugreenalliance.eu/wp-content/uploads/2025/12/EVENTOS-OK.png
END:VEVENT
END:VCALENDAR