BEGIN:VCALENDAR
VERSION:2.0
PRODID:-//EU GREEN - ECPv6.15.13//NONSGML v1.0//EN
CALSCALE:GREGORIAN
METHOD:PUBLISH
X-ORIGINAL-URL:https://eugreenalliance.eu
X-WR-CALDESC:Events for EU GREEN
REFRESH-INTERVAL;VALUE=DURATION:PT1H
X-Robots-Tag:noindex
X-PUBLISHED-TTL:PT1H
BEGIN:VTIMEZONE
TZID:Europe/Madrid
BEGIN:DAYLIGHT
TZOFFSETFROM:+0100
TZOFFSETTO:+0200
TZNAME:CEST
DTSTART:20240331T010000
END:DAYLIGHT
BEGIN:STANDARD
TZOFFSETFROM:+0200
TZOFFSETTO:+0100
TZNAME:CET
DTSTART:20241027T010000
END:STANDARD
BEGIN:DAYLIGHT
TZOFFSETFROM:+0100
TZOFFSETTO:+0200
TZNAME:CEST
DTSTART:20250330T010000
END:DAYLIGHT
BEGIN:STANDARD
TZOFFSETFROM:+0200
TZOFFSETTO:+0100
TZNAME:CET
DTSTART:20251026T010000
END:STANDARD
BEGIN:DAYLIGHT
TZOFFSETFROM:+0100
TZOFFSETTO:+0200
TZNAME:CEST
DTSTART:20260329T010000
END:DAYLIGHT
BEGIN:STANDARD
TZOFFSETFROM:+0200
TZOFFSETTO:+0100
TZNAME:CET
DTSTART:20261025T010000
END:STANDARD
END:VTIMEZONE
BEGIN:VEVENT
DTSTART;VALUE=DATE:20250123
DTEND;VALUE=DATE:20250125
DTSTAMP:20260424T135152
CREATED:20241029T100234Z
LAST-MODIFIED:20250112T115316Z
UID:95913-1737590400-1737763199@eugreenalliance.eu
SUMMARY:EU GREEN Infrastructure week - UA (France)
DESCRIPTION:From 22-25 January 2025\, the University of Angers host the EU GREEN Infrastructure Week\, an event dedicated to advancing the alliance’s technical and collaborative frameworks. This event provides a unique opportunity for representatives from all universities to come together and work on critical infrastructure initiatives\, fostering the integration of innovative tools and methodologies across the Alliance.
URL:https://eugreenalliance.eu/event/eu-green-infrastructure-week-ua-france/
LOCATION:Université Angers\, Angers\, France
CATEGORIES:EU GREEN meeting
ATTACH;FMTTYPE=image/png:https://eugreenalliance.eu/wp-content/uploads/2024/10/infrastruDDSScture.png
END:VEVENT
END:VCALENDAR