BEGIN:VCALENDAR
VERSION:2.0
PRODID:-//EU GREEN - ECPv6.15.13//NONSGML v1.0//EN
CALSCALE:GREGORIAN
METHOD:PUBLISH
X-WR-CALNAME:EU GREEN
X-ORIGINAL-URL:https://eugreenalliance.eu
X-WR-CALDESC:Events for EU GREEN
REFRESH-INTERVAL;VALUE=DURATION:PT1H
X-Robots-Tag:noindex
X-PUBLISHED-TTL:PT1H
BEGIN:VTIMEZONE
TZID:Europe/Madrid
BEGIN:DAYLIGHT
TZOFFSETFROM:+0100
TZOFFSETTO:+0200
TZNAME:CEST
DTSTART:20240331T010000
END:DAYLIGHT
BEGIN:STANDARD
TZOFFSETFROM:+0200
TZOFFSETTO:+0100
TZNAME:CET
DTSTART:20241027T010000
END:STANDARD
BEGIN:DAYLIGHT
TZOFFSETFROM:+0100
TZOFFSETTO:+0200
TZNAME:CEST
DTSTART:20250330T010000
END:DAYLIGHT
BEGIN:STANDARD
TZOFFSETFROM:+0200
TZOFFSETTO:+0100
TZNAME:CET
DTSTART:20251026T010000
END:STANDARD
BEGIN:DAYLIGHT
TZOFFSETFROM:+0100
TZOFFSETTO:+0200
TZNAME:CEST
DTSTART:20260329T010000
END:DAYLIGHT
BEGIN:STANDARD
TZOFFSETFROM:+0200
TZOFFSETTO:+0100
TZNAME:CET
DTSTART:20261025T010000
END:STANDARD
END:VTIMEZONE
BEGIN:VEVENT
DTSTART;VALUE=DATE:20250624
DTEND;VALUE=DATE:20250626
DTSTAMP:20260424T081109
CREATED:20250619T073624Z
LAST-MODIFIED:20250619T080142Z
UID:100071-1750723200-1750895999@eugreenalliance.eu
SUMMARY:SUSTAINABLE & HEALTHY CAMPUS DAYS
DESCRIPTION:The EU GREEN WP8 Workshop on Sustainable & Healthy Campus will bring together partners and stakeholders at the University of Oradea on June 24–25\, 2025. This two-day event will focus on strategies and collaborative actions to promote sustainability and well-being in university campuses. Sessions will include strategic planning discussions\, student engagement activities\, cross-collaboration among work packages\, and an exploration of synergies in implementing healthy and inclusive learning environments. \nThe workshop integrates physical and mental wellness through activities such as mind-body exercises\, walking tours\, and social moments\, reflecting a holistic approach to sustainability. Participants will work together on defining the future roadmap of the WP8 initiatives up to 2030\, including the development of a mentor-mentee programme\, the Healthy Campus initiative\, and the Campus Living Lab. The workshop will culminate in the adoption of concrete action plans and shared goals across the alliance. \nWP8 WORKSHOP 2025\n\nDOWNLOAD THE PROGRAMME
URL:https://eugreenalliance.eu/event/sustainable-healthy-campus-days/
CATEGORIES:EU GREEN meeting
ATTACH;FMTTYPE=image/png:https://eugreenalliance.eu/wp-content/uploads/2025/06/EVENT.png
END:VEVENT
END:VCALENDAR