BEGIN:VCALENDAR
VERSION:2.0
PRODID:-//EU GREEN - ECPv6.15.13//NONSGML v1.0//EN
CALSCALE:GREGORIAN
METHOD:PUBLISH
X-ORIGINAL-URL:https://eugreenalliance.eu
X-WR-CALDESC:Events for EU GREEN
REFRESH-INTERVAL;VALUE=DURATION:PT1H
X-Robots-Tag:noindex
X-PUBLISHED-TTL:PT1H
BEGIN:VTIMEZONE
TZID:Europe/Madrid
BEGIN:DAYLIGHT
TZOFFSETFROM:+0100
TZOFFSETTO:+0200
TZNAME:CEST
DTSTART:20240331T010000
END:DAYLIGHT
BEGIN:STANDARD
TZOFFSETFROM:+0200
TZOFFSETTO:+0100
TZNAME:CET
DTSTART:20241027T010000
END:STANDARD
BEGIN:DAYLIGHT
TZOFFSETFROM:+0100
TZOFFSETTO:+0200
TZNAME:CEST
DTSTART:20250330T010000
END:DAYLIGHT
BEGIN:STANDARD
TZOFFSETFROM:+0200
TZOFFSETTO:+0100
TZNAME:CET
DTSTART:20251026T010000
END:STANDARD
BEGIN:DAYLIGHT
TZOFFSETFROM:+0100
TZOFFSETTO:+0200
TZNAME:CEST
DTSTART:20260329T010000
END:DAYLIGHT
BEGIN:STANDARD
TZOFFSETFROM:+0200
TZOFFSETTO:+0100
TZNAME:CET
DTSTART:20261025T010000
END:STANDARD
BEGIN:DAYLIGHT
TZOFFSETFROM:+0100
TZOFFSETTO:+0200
TZNAME:CEST
DTSTART:20270328T010000
END:DAYLIGHT
BEGIN:STANDARD
TZOFFSETFROM:+0200
TZOFFSETTO:+0100
TZNAME:CET
DTSTART:20271031T010000
END:STANDARD
END:VTIMEZONE
BEGIN:VEVENT
DTSTART;VALUE=DATE:20260415
DTEND;VALUE=DATE:20260418
DTSTAMP:20260423T143529
CREATED:20251204T093707Z
LAST-MODIFIED:20260410T072300Z
UID:101140-1776211200-1776470399@eugreenalliance.eu
SUMMARY:EU GREEN EDUCATION DAYS
DESCRIPTION:The Education Days event will bring together representatives from across the Alliance to reflect on the development of EU GREEN’s educational strategy. A central focus of the meeting will be the discussion and further development of the evaluation report\, including its structure\, key findings\, and recommendations. \nThroughout the three-day event\, participants will take part in working sessions\, subgroup discussions\, and thematic workshops dedicated to the evaluation of the EU GREEN Educational Strategy and the EU GREEN Pedagogical and Professional Development Programme. \nIn addition to the working sessions\, the programme will provide opportunities for networking and community building. Education Days aim to strengthen cooperation among partner universities\, support the development of joint programmes\, and ensure the continuous improvement and impact of EU GREEN’s educational initiatives. \n					\n									DOWNLOAD PROGRAMME
URL:https://eugreenalliance.eu/event/eu-green-education-days-2/
LOCATION:Wroclaw University of Environmental and Life Sciences\, Wroclaw\, Poland
CATEGORIES:EU GREEN meeting
ATTACH;FMTTYPE=image/png:https://eugreenalliance.eu/wp-content/uploads/2025/11/EVENTOS-3.png
END:VEVENT
BEGIN:VEVENT
DTSTART;VALUE=DATE:20251117
DTEND;VALUE=DATE:20251122
DTSTAMP:20260423T143529
CREATED:20250224T125755Z
LAST-MODIFIED:20251006T165708Z
UID:98180-1763337600-1763769599@eugreenalliance.eu
SUMMARY:ACCESS\, DIVERSITY\, INCLUSION & COMMUNICATION DAYS
DESCRIPTION:
URL:https://eugreenalliance.eu/event/access-diversity-inclusion-communication-days/
LOCATION:Otto-von-Guericke Universität Magdeburg\, Germany
CATEGORIES:EU GREEN meeting
ATTACH;FMTTYPE=image/png:https://eugreenalliance.eu/wp-content/uploads/2025/02/WP9-WP7-STAFF-WEEK.png
END:VEVENT
BEGIN:VEVENT
DTSTART;VALUE=DATE:20251007
DTEND;VALUE=DATE:20251010
DTSTAMP:20260423T143529
CREATED:20250112T234735Z
LAST-MODIFIED:20251006T164934Z
UID:96841-1759795200-1760054399@eugreenalliance.eu
SUMMARY:EU GREEN ANNUAL MEETING - (UA) France
DESCRIPTION: EU GREEN Annual Meeting will come together to deliberate on strategic priorities\, review ongoing initiatives\, and set the vision for the alliance’s future.
URL:https://eugreenalliance.eu/event/annualmeeting-ua-france/
LOCATION:Université Angers\, Angers\, France
CATEGORIES:EU GREEN meeting
ATTACH;FMTTYPE=image/png:https://eugreenalliance.eu/wp-content/uploads/2025/01/BOR-8-9-October-2025.png
END:VEVENT
BEGIN:VEVENT
DTSTART;VALUE=DATE:20250624
DTEND;VALUE=DATE:20250626
DTSTAMP:20260423T143529
CREATED:20250619T073624Z
LAST-MODIFIED:20250619T080142Z
UID:100071-1750723200-1750895999@eugreenalliance.eu
SUMMARY:SUSTAINABLE & HEALTHY CAMPUS DAYS
DESCRIPTION:The EU GREEN WP8 Workshop on Sustainable & Healthy Campus will bring together partners and stakeholders at the University of Oradea on June 24–25\, 2025. This two-day event will focus on strategies and collaborative actions to promote sustainability and well-being in university campuses. Sessions will include strategic planning discussions\, student engagement activities\, cross-collaboration among work packages\, and an exploration of synergies in implementing healthy and inclusive learning environments. \nThe workshop integrates physical and mental wellness through activities such as mind-body exercises\, walking tours\, and social moments\, reflecting a holistic approach to sustainability. Participants will work together on defining the future roadmap of the WP8 initiatives up to 2030\, including the development of a mentor-mentee programme\, the Healthy Campus initiative\, and the Campus Living Lab. The workshop will culminate in the adoption of concrete action plans and shared goals across the alliance. \nWP8 WORKSHOP 2025\n\nDOWNLOAD THE PROGRAMME
URL:https://eugreenalliance.eu/event/sustainable-healthy-campus-days/
CATEGORIES:EU GREEN meeting
ATTACH;FMTTYPE=image/png:https://eugreenalliance.eu/wp-content/uploads/2025/06/EVENT.png
END:VEVENT
BEGIN:VEVENT
DTSTART;VALUE=DATE:20250609
DTEND;VALUE=DATE:20250614
DTSTAMP:20260423T143529
CREATED:20240919T175753Z
LAST-MODIFIED:20250319T115246Z
UID:95521-1749427200-1749859199@eugreenalliance.eu
SUMMARY:EU GREEN Research Week - UniPr (Italy)
DESCRIPTION:The 3rd edition of the EU GREEN Research Week will take place from Monday\, June 9 to Friday\, June 13\, 2025\, at the University of Parma (Italy). \nThis annual gathering is a key highlight in the EU GREEN academic calendar\, a unique opportunity to strengthen our research community through face-to-face collaboration\, fruitful exchanges\, and strategic planning. \nThe Research Week brings together members of the Research Clusters\, the PhD Council\, the European Task Force\, and the Joint Research Commission. Through plenary sessions\, collaborative meetings\, and open discussions\, we will: \n\nDefine the future roadmap for the alliance’s research\nFoster new interdisciplinary collaborations\nStrengthen the alliance’s research ecosystem\n\nPROGRAMME \nRooting research in society: a multi-level stakeholder approach \nThis year\, we’ll explore how research can better connect with society at all levels. Three open roundtables will address: \n\nCampus scale: students\, citizens\, and associations\nCity scale: local authorities and public services\nRegional scale: public and private enterprises (SMEs\, large companies)\n\nThe goal? Strengthen the link between research and regional sustainability needs\, and build impactful external networks. \n  \nThe future of EU GREEN research collaboration after 2026 \nThis Research Week will be the starting point for shaping our next steps beyond 2026. Let’s reflect together on how we want our alliance’s research collaboration to evolve. \nThroughout the week\, dedicated slots will allow: \n\nCluster or project-based meetings\nInformal scientific matchmaking opportunities\nNetworking moments to discover new potential partners\n\nFinals of the “3-minute fame” competition \nIn parallel\, this event will also host the final of the “3-Minute Fame” competition\, where PhD candidates from the 9 partner universities will present their research in just 3 minutes\, in front of an EU GREEN jury. \nThey will also take part in workshops to strengthen their cross-disciplinary skills. \nRegister \nAll research members from partner universities (members of the Research Clusters\, the PhD Council\, the European Task Force\, and the Joint Research Commission) are warmly invited and strongly encouraged to attend this Research Week to continue building on the collaboration initiated across the alliance. \nTo ensure your participation\, please contact your university’s EU GREEN Research referent before March 31\, 2025: \n\nUniversity of Parma: BARTOLI Marco\, bartoli@unipr.it\nUniversity of Gävle: BENGTSSON Lars\, bengtsson@hig.se\nUniversity of Angers: BLOUËT Alix\, eugreenwp3@univ-angers.fr\nUniversity of Oradea: DODESCU Anca\, dodescu@gmail.com\nUniversity Otto von Guericke Magdeburg: HAGEN Martina\, hagen@ovgu.de\nWrocław University of Life & Environment Sciences: KOPANCZYK Katarzyna\, kopanczyk@upwr.edu.pl\nAtlantic Technological University: LUCY Frances\, lucy@atu.ie\nUniversity of Extremadura: PEREZ ALOE VALVERDE Raquel\, eugreen_uex@unex.es\nUniversity of Evora: PIRES Cesaltina\, cpires@uevora.pt\n\n 
URL:https://eugreenalliance.eu/event/eu-green-research-week-unipr/
LOCATION:Università degli studi di Parma\, Parma\, Italy
CATEGORIES:EU GREEN meeting
ATTACH;FMTTYPE=image/png:https://eugreenalliance.eu/wp-content/uploads/2024/09/RESEARCH-WEEK.png
END:VEVENT
BEGIN:VEVENT
DTSTART;VALUE=DATE:20250602
DTEND;VALUE=DATE:20250605
DTSTAMP:20260423T143529
CREATED:20250116T173133Z
LAST-MODIFIED:20250116T173235Z
UID:96926-1748822400-1749081599@eugreenalliance.eu
SUMMARY:EU GREEN Education Days - (UA) France
DESCRIPTION:The University of Angers (France) will host for three days the meeting of the members of the education area of the EU GREEN alliance of European universities.
URL:https://eugreenalliance.eu/event/eu-green-education-days/
LOCATION:Université Angers\, Angers\, France
CATEGORIES:EU GREEN meeting
ATTACH;FMTTYPE=image/png:https://eugreenalliance.eu/wp-content/uploads/2025/01/POSTER.png
END:VEVENT
BEGIN:VEVENT
DTSTART;VALUE=DATE:20250513
DTEND;VALUE=DATE:20250516
DTSTAMP:20260423T143529
CREATED:20250429T113010Z
LAST-MODIFIED:20250429T113035Z
UID:99073-1747094400-1747353599@eugreenalliance.eu
SUMMARY:INTERNACIONALIZATION & MOBILITY DAYS
DESCRIPTION:
URL:https://eugreenalliance.eu/event/internacionalization-mobility-days/
LOCATION:Högskolan i Gävle\, Sweden
CATEGORIES:EU GREEN event,EU GREEN meeting,International Event
ATTACH;FMTTYPE=image/png:https://eugreenalliance.eu/wp-content/uploads/2025/04/OK.png
END:VEVENT
BEGIN:VEVENT
DTSTART;VALUE=DATE:20250424
DTEND;VALUE=DATE:20250426
DTSTAMP:20260423T143529
CREATED:20250417T203326Z
LAST-MODIFIED:20250424T081708Z
UID:98588-1745452800-1745625599@eugreenalliance.eu
SUMMARY:YOUNG RESEARCHERS MARATHON
DESCRIPTION:
URL:https://eugreenalliance.eu/event/young-researchers-marathon/
LOCATION:EU GREEN ALLIANCE
CATEGORIES:EU GREEN event,EU GREEN meeting,Student event
ATTACH;FMTTYPE=image/png:https://eugreenalliance.eu/wp-content/uploads/2025/04/2-1.png
END:VEVENT
BEGIN:VEVENT
DTSTART;VALUE=DATE:20250409
DTEND;VALUE=DATE:20250412
DTSTAMP:20260423T143529
CREATED:20250112T110150Z
LAST-MODIFIED:20250112T122435Z
UID:96751-1744156800-1744415999@eugreenalliance.eu
SUMMARY:EU GREEN BOARD OF RECTORS - (UÉ)
DESCRIPTION:Rectors and Senate of the EU GREEN Alliance will come together to deliberate on strategic priorities\, review ongoing initiatives\, and set the vision for the alliance’s future. Executive Committee will hold an intensive meeting to refine and operationalize the strategies discussed\, ensuring alignment and coordination across all alliance projects.
URL:https://eugreenalliance.eu/event/eu-green-board-of-rectors-ue/
LOCATION:Universidade de Evora\, Portugal
CATEGORIES:EU GREEN meeting
ATTACH;FMTTYPE=image/png:https://eugreenalliance.eu/wp-content/uploads/2025/01/BOARD-OF-RECTOS-EVORA.png
END:VEVENT
BEGIN:VEVENT
DTSTART;TZID=Europe/Madrid:20250402T093000
DTEND;TZID=Europe/Madrid:20250402T103000
DTSTAMP:20260423T143529
CREATED:20250331T081540Z
LAST-MODIFIED:20250331T081816Z
UID:98826-1743586200-1743589800@eugreenalliance.eu
SUMMARY:MSCA Staff Exchanges – Online information session
DESCRIPTION:Promoting international research collaboration with MSCA Staff Exchanges\nResearchers\, administrative staff and project managers from EU GREEN partner universities\nare invited to take part in an online information session about the Marie Skłodowska-Curie Staff Exchanges (MSCA) action. \nThis funding scheme aims to encourage the mobility of researchers across countries\, sectors and disciplines\, within collaborative research and training projects. \nOrganised by OVGU Research Funding Advice\, this session will provide a comprehensive overview of the MSCA Staff Exchanges programme and guide participants through key aspects such as: \n\nProgramme overview – Objectives\, eligibility criteria and structure of MSCA Staff\nExchanges\nApplication process – Guidance on proposal writing\, evaluation criteria and\nsubmission requirements\nQ&A and discussion – Answers to specific questions and tailored advice\n\nThis workshop is designed to help researchers and institutions maximise their chances of securing funding\, develop competitive proposals\, and explore new opportunities for international collaboration. \n \nWhether you are planning to submit a proposal or simply wish to learn more about this funding scheme\, this session will provide valuable insights and practical guidance. \nPractical information\n\nDate: Wednesday 2 April 2025\nTime: 9:30–10:30 (CET)\nLocation: Online (connection link will be shared shortly before the event)\nLanguage: English\n\nRegistration required via Eveeno\nA strategic opportunity for EU GREEN partners\nThe MSCA Staff Exchanges scheme aligns closely with the EU GREEN alliance’s goals of supporting joint initiatives between partner institutions\, enhancing staff mobility\, and fostering a collaborative\, interdisciplinary research environment across Europe.
URL:https://eugreenalliance.eu/event/msca-staff-exchanges-online-information-session/
LOCATION:ONLINE
CATEGORIES:EU GREEN meeting,Masterclass,Student event,Webinar
ATTACH;FMTTYPE=image/png:https://eugreenalliance.eu/wp-content/uploads/2025/03/MSCA-banner-alliance-Pauline-Pacheco.png
END:VEVENT
BEGIN:VEVENT
DTSTART;VALUE=DATE:20250123
DTEND;VALUE=DATE:20250125
DTSTAMP:20260423T143529
CREATED:20241029T100234Z
LAST-MODIFIED:20250112T115316Z
UID:95913-1737590400-1737763199@eugreenalliance.eu
SUMMARY:EU GREEN Infrastructure week - UA (France)
DESCRIPTION:From 22-25 January 2025\, the University of Angers host the EU GREEN Infrastructure Week\, an event dedicated to advancing the alliance’s technical and collaborative frameworks. This event provides a unique opportunity for representatives from all universities to come together and work on critical infrastructure initiatives\, fostering the integration of innovative tools and methodologies across the Alliance.
URL:https://eugreenalliance.eu/event/eu-green-infrastructure-week-ua-france/
LOCATION:Université Angers\, Angers\, France
CATEGORIES:EU GREEN meeting
ATTACH;FMTTYPE=image/png:https://eugreenalliance.eu/wp-content/uploads/2024/10/infrastruDDSScture.png
END:VEVENT
END:VCALENDAR