BEGIN:VCALENDAR
VERSION:2.0
PRODID:-//EU GREEN - ECPv6.15.13//NONSGML v1.0//EN
CALSCALE:GREGORIAN
METHOD:PUBLISH
X-WR-CALNAME:EU GREEN
X-ORIGINAL-URL:https://eugreenalliance.eu
X-WR-CALDESC:Events for EU GREEN
REFRESH-INTERVAL;VALUE=DURATION:PT1H
X-Robots-Tag:noindex
X-PUBLISHED-TTL:PT1H
BEGIN:VTIMEZONE
TZID:Europe/Madrid
BEGIN:DAYLIGHT
TZOFFSETFROM:+0100
TZOFFSETTO:+0200
TZNAME:CEST
DTSTART:20250330T010000
END:DAYLIGHT
BEGIN:STANDARD
TZOFFSETFROM:+0200
TZOFFSETTO:+0100
TZNAME:CET
DTSTART:20251026T010000
END:STANDARD
BEGIN:DAYLIGHT
TZOFFSETFROM:+0100
TZOFFSETTO:+0200
TZNAME:CEST
DTSTART:20260329T010000
END:DAYLIGHT
BEGIN:STANDARD
TZOFFSETFROM:+0200
TZOFFSETTO:+0100
TZNAME:CET
DTSTART:20261025T010000
END:STANDARD
BEGIN:DAYLIGHT
TZOFFSETFROM:+0100
TZOFFSETTO:+0200
TZNAME:CEST
DTSTART:20270328T010000
END:DAYLIGHT
BEGIN:STANDARD
TZOFFSETFROM:+0200
TZOFFSETTO:+0100
TZNAME:CET
DTSTART:20271031T010000
END:STANDARD
END:VTIMEZONE
BEGIN:VEVENT
DTSTART;VALUE=DATE:20260505
DTEND;VALUE=DATE:20260508
DTSTAMP:20260423T125255
CREATED:20251202T102717Z
LAST-MODIFIED:20260316T085646Z
UID:101135-1777939200-1778198399@eugreenalliance.eu
SUMMARY:EU GREEN GOVERNANCE MEETING 2026
DESCRIPTION:
URL:https://eugreenalliance.eu/event/eu-green-board-of-rectors-2026/
LOCATION:Otto-von-Guericke Universität Magdeburg\, Germany
CATEGORIES:EU GREEN meeting
ATTACH;FMTTYPE=image/png:https://eugreenalliance.eu/wp-content/uploads/2025/11/BOARD-OF-RECTORS.png
END:VEVENT
BEGIN:VEVENT
DTSTART;VALUE=DATE:20260609
DTEND;VALUE=DATE:20260612
DTSTAMP:20260423T125255
CREATED:20251204T095159Z
LAST-MODIFIED:20251204T104533Z
UID:101317-1780963200-1781222399@eugreenalliance.eu
SUMMARY:COMMUNICATION DAYS
DESCRIPTION:
URL:https://eugreenalliance.eu/event/communication-days/
CATEGORIES:EU GREEN meeting
ATTACH;FMTTYPE=image/png:https://eugreenalliance.eu/wp-content/uploads/2025/12/EVENTOSok.png
END:VEVENT
END:VCALENDAR