BEGIN:VCALENDAR
VERSION:2.0
PRODID:-//EU GREEN - ECPv6.15.13//NONSGML v1.0//EN
CALSCALE:GREGORIAN
METHOD:PUBLISH
X-ORIGINAL-URL:https://eugreenalliance.eu
X-WR-CALDESC:Events for EU GREEN
REFRESH-INTERVAL;VALUE=DURATION:PT1H
X-Robots-Tag:noindex
X-PUBLISHED-TTL:PT1H
BEGIN:VTIMEZONE
TZID:Europe/Madrid
BEGIN:DAYLIGHT
TZOFFSETFROM:+0100
TZOFFSETTO:+0200
TZNAME:CEST
DTSTART:20250330T010000
END:DAYLIGHT
BEGIN:STANDARD
TZOFFSETFROM:+0200
TZOFFSETTO:+0100
TZNAME:CET
DTSTART:20251026T010000
END:STANDARD
BEGIN:DAYLIGHT
TZOFFSETFROM:+0100
TZOFFSETTO:+0200
TZNAME:CEST
DTSTART:20260329T010000
END:DAYLIGHT
BEGIN:STANDARD
TZOFFSETFROM:+0200
TZOFFSETTO:+0100
TZNAME:CET
DTSTART:20261025T010000
END:STANDARD
BEGIN:DAYLIGHT
TZOFFSETFROM:+0100
TZOFFSETTO:+0200
TZNAME:CEST
DTSTART:20270328T010000
END:DAYLIGHT
BEGIN:STANDARD
TZOFFSETFROM:+0200
TZOFFSETTO:+0100
TZNAME:CET
DTSTART:20271031T010000
END:STANDARD
END:VTIMEZONE
BEGIN:VEVENT
DTSTART;TZID=Europe/Madrid:20260423T090000
DTEND;TZID=Europe/Madrid:20260423T150000
DTSTAMP:20260422T002405
CREATED:20260313T123118Z
LAST-MODIFIED:20260313T123602Z
UID:102459-1776934800-1776956400@eugreenalliance.eu
SUMMARY:AI VET Conference 2026
DESCRIPTION:How can urban and rural communities actively shape their own green spaces? This EU GREEN Masterclass\, led by Dr. Małgorzata Świąder from the Wrocław University of Environmental and Life Sciences\, will offer insights into participatory spatial planning\, with a special focus on the development of community gardens. As the 2024 Climate Person of the Year (Young Scientist category) in Poland\, Dr. Świąder brings expertise in environmental indicators and sustainable planning practices. \nParticipants will explore what defines a community garden\, the various types and purposes they serve\, and the principles behind their successful creation. Through inspiring examples from Europe\, Poland\, and Wrocław — including student-led projects at UPWr — the session will highlight how citizen participation can shape inclusive\, sustainable\, and vibrant public spaces. Practical tools for fostering community engagement and participatory design will also be shared. 								\n				\n				\n				\n									\n					\n						\n									REGISTER HERE
URL:https://eugreenalliance.eu/event/ai-vet-conference-2026/
CATEGORIES:EU GREEN event
ATTACH;FMTTYPE=image/png:https://eugreenalliance.eu/wp-content/uploads/2026/03/Blue-and-Green-Modern-Climate-Change-Solutions-Presentation-1.png
END:VEVENT
BEGIN:VEVENT
DTSTART;TZID=Europe/Madrid:20260428T140000
DTEND;TZID=Europe/Madrid:20260428T150000
DTSTAMP:20260422T002405
CREATED:20260311T190440Z
LAST-MODIFIED:20260312T130955Z
UID:102320-1777384800-1777388400@eugreenalliance.eu
SUMMARY:MASTERCLASS: Empowering Student Voice for Sustainable University Transformation
DESCRIPTION:How can urban and rural communities actively shape their own green spaces? This EU GREEN Masterclass\, led by Dr. Małgorzata Świąder from the Wrocław University of Environmental and Life Sciences\, will offer insights into participatory spatial planning\, with a special focus on the development of community gardens. As the 2024 Climate Person of the Year (Young Scientist category) in Poland\, Dr. Świąder brings expertise in environmental indicators and sustainable planning practices. \nParticipants will explore what defines a community garden\, the various types and purposes they serve\, and the principles behind their successful creation. Through inspiring examples from Europe\, Poland\, and Wrocław — including student-led projects at UPWr — the session will highlight how citizen participation can shape inclusive\, sustainable\, and vibrant public spaces. Practical tools for fostering community engagement and participatory design will also be shared. 								\n				\n				\n				\n									\n					\n						\n									REGISTER HERE
URL:https://eugreenalliance.eu/event/masteclass-empowering-student-voice-for-sustainable-university-transformation/
LOCATION:ONLINE
CATEGORIES:Masterclass
ATTACH;FMTTYPE=image/jpeg:https://eugreenalliance.eu/wp-content/uploads/2026/03/Afis.jpg
END:VEVENT
BEGIN:VEVENT
DTSTART;VALUE=DATE:20260505
DTEND;VALUE=DATE:20260508
DTSTAMP:20260422T002405
CREATED:20251202T102717Z
LAST-MODIFIED:20260316T085646Z
UID:101135-1777939200-1778198399@eugreenalliance.eu
SUMMARY:EU GREEN GOVERNANCE MEETING 2026
DESCRIPTION:How can urban and rural communities actively shape their own green spaces? This EU GREEN Masterclass\, led by Dr. Małgorzata Świąder from the Wrocław University of Environmental and Life Sciences\, will offer insights into participatory spatial planning\, with a special focus on the development of community gardens. As the 2024 Climate Person of the Year (Young Scientist category) in Poland\, Dr. Świąder brings expertise in environmental indicators and sustainable planning practices. \nParticipants will explore what defines a community garden\, the various types and purposes they serve\, and the principles behind their successful creation. Through inspiring examples from Europe\, Poland\, and Wrocław — including student-led projects at UPWr — the session will highlight how citizen participation can shape inclusive\, sustainable\, and vibrant public spaces. Practical tools for fostering community engagement and participatory design will also be shared. 								\n				\n				\n				\n									\n					\n						\n									REGISTER HERE
URL:https://eugreenalliance.eu/event/eu-green-board-of-rectors-2026/
LOCATION:Otto-von-Guericke Universität Magdeburg\, Germany
CATEGORIES:EU GREEN meeting
ATTACH;FMTTYPE=image/png:https://eugreenalliance.eu/wp-content/uploads/2025/11/BOARD-OF-RECTORS.png
END:VEVENT
BEGIN:VEVENT
DTSTART;VALUE=DATE:20260505
DTEND;VALUE=DATE:20260507
DTSTAMP:20260422T002405
CREATED:20260316T100242Z
LAST-MODIFIED:20260316T100553Z
UID:102474-1777939200-1778111999@eugreenalliance.eu
SUMMARY:GROUFES 2026 - Growing up the Future Conference
DESCRIPTION:How can urban and rural communities actively shape their own green spaces? This EU GREEN Masterclass\, led by Dr. Małgorzata Świąder from the Wrocław University of Environmental and Life Sciences\, will offer insights into participatory spatial planning\, with a special focus on the development of community gardens. As the 2024 Climate Person of the Year (Young Scientist category) in Poland\, Dr. Świąder brings expertise in environmental indicators and sustainable planning practices. \nParticipants will explore what defines a community garden\, the various types and purposes they serve\, and the principles behind their successful creation. Through inspiring examples from Europe\, Poland\, and Wrocław — including student-led projects at UPWr — the session will highlight how citizen participation can shape inclusive\, sustainable\, and vibrant public spaces. Practical tools for fostering community engagement and participatory design will also be shared. 								\n				\n				\n				\n									\n					\n						\n									REGISTER HERE
URL:https://eugreenalliance.eu/event/groufes-2026-growing-up-the-future-conference/
CATEGORIES:EU GREEN event
ATTACH;FMTTYPE=image/png:https://eugreenalliance.eu/wp-content/uploads/2026/03/Untitled-design-3.png
END:VEVENT
BEGIN:VEVENT
DTSTART;VALUE=DATE:20260511
DTEND;VALUE=DATE:20260514
DTSTAMP:20260422T002405
CREATED:20260415T081714Z
LAST-MODIFIED:20260415T081916Z
UID:102737-1778457600-1778716799@eugreenalliance.eu
SUMMARY:EU GREEN Train the trainer
DESCRIPTION:How can urban and rural communities actively shape their own green spaces? This EU GREEN Masterclass\, led by Dr. Małgorzata Świąder from the Wrocław University of Environmental and Life Sciences\, will offer insights into participatory spatial planning\, with a special focus on the development of community gardens. As the 2024 Climate Person of the Year (Young Scientist category) in Poland\, Dr. Świąder brings expertise in environmental indicators and sustainable planning practices. \nParticipants will explore what defines a community garden\, the various types and purposes they serve\, and the principles behind their successful creation. Through inspiring examples from Europe\, Poland\, and Wrocław — including student-led projects at UPWr — the session will highlight how citizen participation can shape inclusive\, sustainable\, and vibrant public spaces. Practical tools for fostering community engagement and participatory design will also be shared. 								\n				\n				\n				\n									\n					\n						\n									REGISTER HERE
URL:https://eugreenalliance.eu/event/eu-green-train-the-trainer/
LOCATION:Université Angers\, Angers\, France
CATEGORIES:EU GREEN event
ATTACH;FMTTYPE=image/png:https://eugreenalliance.eu/wp-content/uploads/2026/04/1-1.png
END:VEVENT
BEGIN:VEVENT
DTSTART;VALUE=DATE:20260601
DTEND;VALUE=DATE:20260606
DTSTAMP:20260422T002405
CREATED:20251204T094107Z
LAST-MODIFIED:20260318T122747Z
UID:101313-1780272000-1780703999@eugreenalliance.eu
SUMMARY:RESEARCHERS WEEK
DESCRIPTION:How can urban and rural communities actively shape their own green spaces? This EU GREEN Masterclass\, led by Dr. Małgorzata Świąder from the Wrocław University of Environmental and Life Sciences\, will offer insights into participatory spatial planning\, with a special focus on the development of community gardens. As the 2024 Climate Person of the Year (Young Scientist category) in Poland\, Dr. Świąder brings expertise in environmental indicators and sustainable planning practices. \nParticipants will explore what defines a community garden\, the various types and purposes they serve\, and the principles behind their successful creation. Through inspiring examples from Europe\, Poland\, and Wrocław — including student-led projects at UPWr — the session will highlight how citizen participation can shape inclusive\, sustainable\, and vibrant public spaces. Practical tools for fostering community engagement and participatory design will also be shared. 								\n				\n				\n				\n									\n					\n						\n									REGISTER HERE
URL:https://eugreenalliance.eu/event/researchers-week/
LOCATION:Otto-von-Guericke Universität Magdeburg\, Germany
CATEGORIES:EU GREEN event
ATTACH;FMTTYPE=image/png:https://eugreenalliance.eu/wp-content/uploads/2025/12/EVENTOS-OK.png
END:VEVENT
BEGIN:VEVENT
DTSTART;VALUE=DATE:20260609
DTEND;VALUE=DATE:20260612
DTSTAMP:20260422T002405
CREATED:20251204T095159Z
LAST-MODIFIED:20251204T104533Z
UID:101317-1780963200-1781222399@eugreenalliance.eu
SUMMARY:COMMUNICATION DAYS
DESCRIPTION:How can urban and rural communities actively shape their own green spaces? This EU GREEN Masterclass\, led by Dr. Małgorzata Świąder from the Wrocław University of Environmental and Life Sciences\, will offer insights into participatory spatial planning\, with a special focus on the development of community gardens. As the 2024 Climate Person of the Year (Young Scientist category) in Poland\, Dr. Świąder brings expertise in environmental indicators and sustainable planning practices. \nParticipants will explore what defines a community garden\, the various types and purposes they serve\, and the principles behind their successful creation. Through inspiring examples from Europe\, Poland\, and Wrocław — including student-led projects at UPWr — the session will highlight how citizen participation can shape inclusive\, sustainable\, and vibrant public spaces. Practical tools for fostering community engagement and participatory design will also be shared. 								\n				\n				\n				\n									\n					\n						\n									REGISTER HERE
URL:https://eugreenalliance.eu/event/communication-days/
CATEGORIES:EU GREEN meeting
ATTACH;FMTTYPE=image/png:https://eugreenalliance.eu/wp-content/uploads/2025/12/EVENTOSok.png
END:VEVENT
BEGIN:VEVENT
DTSTART;VALUE=DATE:20261007
DTEND;VALUE=DATE:20261010
DTSTAMP:20260422T002405
CREATED:20251202T101841Z
LAST-MODIFIED:20251202T101841Z
UID:101138-1791331200-1791590399@eugreenalliance.eu
SUMMARY:EU GREEN ANNUAL MEETING 2026
DESCRIPTION:How can urban and rural communities actively shape their own green spaces? This EU GREEN Masterclass\, led by Dr. Małgorzata Świąder from the Wrocław University of Environmental and Life Sciences\, will offer insights into participatory spatial planning\, with a special focus on the development of community gardens. As the 2024 Climate Person of the Year (Young Scientist category) in Poland\, Dr. Świąder brings expertise in environmental indicators and sustainable planning practices. \nParticipants will explore what defines a community garden\, the various types and purposes they serve\, and the principles behind their successful creation. Through inspiring examples from Europe\, Poland\, and Wrocław — including student-led projects at UPWr — the session will highlight how citizen participation can shape inclusive\, sustainable\, and vibrant public spaces. Practical tools for fostering community engagement and participatory design will also be shared. 								\n				\n				\n				\n									\n					\n						\n									REGISTER HERE
URL:https://eugreenalliance.eu/event/eu-green-annual-meeting-2026/
LOCATION:Universitatea din Oradea\, Oradea\, Romania
CATEGORIES:EU GREEN event
ATTACH;FMTTYPE=image/png:https://eugreenalliance.eu/wp-content/uploads/2025/11/ANNUAL-MEETING.png
END:VEVENT
BEGIN:VEVENT
DTSTART;VALUE=DATE:20261203
DTEND;VALUE=DATE:20261204
DTSTAMP:20260422T002405
CREATED:20260413T095820Z
LAST-MODIFIED:20260413T095820Z
UID:102723-1796256000-1796342399@eugreenalliance.eu
SUMMARY:COP 2 - EU GREEN CONFERENCE OF PARTIES
DESCRIPTION:How can urban and rural communities actively shape their own green spaces? This EU GREEN Masterclass\, led by Dr. Małgorzata Świąder from the Wrocław University of Environmental and Life Sciences\, will offer insights into participatory spatial planning\, with a special focus on the development of community gardens. As the 2024 Climate Person of the Year (Young Scientist category) in Poland\, Dr. Świąder brings expertise in environmental indicators and sustainable planning practices. \nParticipants will explore what defines a community garden\, the various types and purposes they serve\, and the principles behind their successful creation. Through inspiring examples from Europe\, Poland\, and Wrocław — including student-led projects at UPWr — the session will highlight how citizen participation can shape inclusive\, sustainable\, and vibrant public spaces. Practical tools for fostering community engagement and participatory design will also be shared. 								\n				\n				\n				\n									\n					\n						\n									REGISTER HERE
URL:https://eugreenalliance.eu/event/cop-2-eu-green-conference-of-parties/
LOCATION:Högskolan i Gävle\, Sweden
CATEGORIES:EU GREEN event
ATTACH;FMTTYPE=image/png:https://eugreenalliance.eu/wp-content/uploads/2026/04/2.png
END:VEVENT
END:VCALENDAR