BEGIN:VCALENDAR
VERSION:2.0
PRODID:-//EU GREEN - ECPv6.15.13//NONSGML v1.0//EN
CALSCALE:GREGORIAN
METHOD:PUBLISH
X-WR-CALNAME:EU GREEN
X-ORIGINAL-URL:https://eugreenalliance.eu
X-WR-CALDESC:Events for EU GREEN
REFRESH-INTERVAL;VALUE=DURATION:PT1H
X-Robots-Tag:noindex
X-PUBLISHED-TTL:PT1H
BEGIN:VTIMEZONE
TZID:Europe/Madrid
BEGIN:DAYLIGHT
TZOFFSETFROM:+0100
TZOFFSETTO:+0200
TZNAME:CEST
DTSTART:20200329T010000
END:DAYLIGHT
BEGIN:STANDARD
TZOFFSETFROM:+0200
TZOFFSETTO:+0100
TZNAME:CET
DTSTART:20201025T010000
END:STANDARD
BEGIN:DAYLIGHT
TZOFFSETFROM:+0100
TZOFFSETTO:+0200
TZNAME:CEST
DTSTART:20210328T010000
END:DAYLIGHT
BEGIN:STANDARD
TZOFFSETFROM:+0200
TZOFFSETTO:+0100
TZNAME:CET
DTSTART:20211031T010000
END:STANDARD
BEGIN:DAYLIGHT
TZOFFSETFROM:+0100
TZOFFSETTO:+0200
TZNAME:CEST
DTSTART:20220327T010000
END:DAYLIGHT
BEGIN:STANDARD
TZOFFSETFROM:+0200
TZOFFSETTO:+0100
TZNAME:CET
DTSTART:20221030T010000
END:STANDARD
BEGIN:DAYLIGHT
TZOFFSETFROM:+0100
TZOFFSETTO:+0200
TZNAME:CEST
DTSTART:20230326T010000
END:DAYLIGHT
BEGIN:STANDARD
TZOFFSETFROM:+0200
TZOFFSETTO:+0100
TZNAME:CET
DTSTART:20231029T010000
END:STANDARD
END:VTIMEZONE
BEGIN:VEVENT
DTSTART;VALUE=DATE:20220728
DTEND;VALUE=DATE:20220729
DTSTAMP:20260422T234702
CREATED:20220728T110957Z
LAST-MODIFIED:20230918T080555Z
UID:1427-1658966400-1659052799@eugreenalliance.eu
SUMMARY:The UE funds 4 alliance and EU GREEN is one of them
DESCRIPTION:Organised within the framework of the Research workpackage (WP3)\, these EU GREEN Research Webinars offer researchers and doctoral candidates the opportunity to share their work with a broad European academic community. They foster scientific collaboration\, help identify potential partners\, and support the development of a network around interdisciplinary research topics. Topic: The Importance of Social Marketing in Achieving the Sustainable Development Goals (SDGs). A Case StudySocial marketing is considered a key tool to contribute to achieving the 17 Sustainable Development Goals (SDGs) of the United Nations 2030 Agenda. This webinar will introduce the concept of social marketing\, explore its various areas of application through concrete examples\, and present a case study to illustrate its real-world impact. Speaker: Mercedes Galán-Ladero\, Professor at the University of ExtremaduraDate: Wednesday 28th May 2025\, from 4:00 to 5:00 pm (CET)Online on Teams:								\n				\n				\n				\n									\n					\n						\n									REGISTER HERE
URL:https://eugreenalliance.eu/event/the-ue-funds-4-alliance-and-eugreen-is-one-of-them/
ATTACH;FMTTYPE=image/jpeg:https://eugreenalliance.eu/wp-content/uploads/2023/02/fireworks-g95e69d5b6_1280.jpg
END:VEVENT
BEGIN:VEVENT
DTSTART;VALUE=DATE:20220711
DTEND;VALUE=DATE:20220716
DTSTAMP:20260422T234702
CREATED:20220601T094007Z
LAST-MODIFIED:20220601T094007Z
UID:1064-1657497600-1657929599@eugreenalliance.eu
SUMMARY:Summer School at UPWr
DESCRIPTION:Organised within the framework of the Research workpackage (WP3)\, these EU GREEN Research Webinars offer researchers and doctoral candidates the opportunity to share their work with a broad European academic community. They foster scientific collaboration\, help identify potential partners\, and support the development of a network around interdisciplinary research topics. Topic: The Importance of Social Marketing in Achieving the Sustainable Development Goals (SDGs). A Case StudySocial marketing is considered a key tool to contribute to achieving the 17 Sustainable Development Goals (SDGs) of the United Nations 2030 Agenda. This webinar will introduce the concept of social marketing\, explore its various areas of application through concrete examples\, and present a case study to illustrate its real-world impact. Speaker: Mercedes Galán-Ladero\, Professor at the University of ExtremaduraDate: Wednesday 28th May 2025\, from 4:00 to 5:00 pm (CET)Online on Teams:								\n				\n				\n				\n									\n					\n						\n									REGISTER HERE
URL:https://eugreenalliance.eu/event/summer-school-at-upwr-2/
LOCATION:Wroclaw University of Environmental and Life Sciences\, Wroclaw\, Poland
ATTACH;FMTTYPE=image/png:https://eugreenalliance.eu/wp-content/uploads/2022/06/Captura-de-pantalla-2022-06-01-a-las-11.34.14.png
END:VEVENT
BEGIN:VEVENT
DTSTART;VALUE=DATE:20220704
DTEND;VALUE=DATE:20220709
DTSTAMP:20260422T234702
CREATED:20220601T093755Z
LAST-MODIFIED:20220601T093755Z
UID:1057-1656892800-1657324799@eugreenalliance.eu
SUMMARY:Summer School at UPWr
DESCRIPTION:Organised within the framework of the Research workpackage (WP3)\, these EU GREEN Research Webinars offer researchers and doctoral candidates the opportunity to share their work with a broad European academic community. They foster scientific collaboration\, help identify potential partners\, and support the development of a network around interdisciplinary research topics. Topic: The Importance of Social Marketing in Achieving the Sustainable Development Goals (SDGs). A Case StudySocial marketing is considered a key tool to contribute to achieving the 17 Sustainable Development Goals (SDGs) of the United Nations 2030 Agenda. This webinar will introduce the concept of social marketing\, explore its various areas of application through concrete examples\, and present a case study to illustrate its real-world impact. Speaker: Mercedes Galán-Ladero\, Professor at the University of ExtremaduraDate: Wednesday 28th May 2025\, from 4:00 to 5:00 pm (CET)Online on Teams:								\n				\n				\n				\n									\n					\n						\n									REGISTER HERE
URL:https://eugreenalliance.eu/event/summer-school-at-upwr/
LOCATION:Wroclaw University of Environmental and Life Sciences\, Wroclaw\, Poland
ATTACH;FMTTYPE=image/png:https://eugreenalliance.eu/wp-content/uploads/2022/06/Captura-de-pantalla-2022-06-01-a-las-11.34.14.png
END:VEVENT
BEGIN:VEVENT
DTSTART;VALUE=DATE:20220701
DTEND;VALUE=DATE:20220702
DTSTAMP:20260422T234702
CREATED:20230425T073250Z
LAST-MODIFIED:20230425T073250Z
UID:1590-1656633600-1656719999@eugreenalliance.eu
SUMMARY:EU GREEN is selected in the European Universities Call 2022
DESCRIPTION:Organised within the framework of the Research workpackage (WP3)\, these EU GREEN Research Webinars offer researchers and doctoral candidates the opportunity to share their work with a broad European academic community. They foster scientific collaboration\, help identify potential partners\, and support the development of a network around interdisciplinary research topics. Topic: The Importance of Social Marketing in Achieving the Sustainable Development Goals (SDGs). A Case StudySocial marketing is considered a key tool to contribute to achieving the 17 Sustainable Development Goals (SDGs) of the United Nations 2030 Agenda. This webinar will introduce the concept of social marketing\, explore its various areas of application through concrete examples\, and present a case study to illustrate its real-world impact. Speaker: Mercedes Galán-Ladero\, Professor at the University of ExtremaduraDate: Wednesday 28th May 2025\, from 4:00 to 5:00 pm (CET)Online on Teams:								\n				\n				\n				\n									\n					\n						\n									REGISTER HERE
URL:https://eugreenalliance.eu/event/eu-green-is-selected-in-the-european-universities-call-2022/
END:VEVENT
BEGIN:VEVENT
DTSTART;VALUE=DATE:20220601
DTEND;VALUE=DATE:20220602
DTSTAMP:20260422T234702
CREATED:20230425T072138Z
LAST-MODIFIED:20230425T072138Z
UID:1569-1654041600-1654127999@eugreenalliance.eu
SUMMARY:Meeting in Brussels of the 44 European Coordinators of European Universities
DESCRIPTION:Organised within the framework of the Research workpackage (WP3)\, these EU GREEN Research Webinars offer researchers and doctoral candidates the opportunity to share their work with a broad European academic community. They foster scientific collaboration\, help identify potential partners\, and support the development of a network around interdisciplinary research topics. Topic: The Importance of Social Marketing in Achieving the Sustainable Development Goals (SDGs). A Case StudySocial marketing is considered a key tool to contribute to achieving the 17 Sustainable Development Goals (SDGs) of the United Nations 2030 Agenda. This webinar will introduce the concept of social marketing\, explore its various areas of application through concrete examples\, and present a case study to illustrate its real-world impact. Speaker: Mercedes Galán-Ladero\, Professor at the University of ExtremaduraDate: Wednesday 28th May 2025\, from 4:00 to 5:00 pm (CET)Online on Teams:								\n				\n				\n				\n									\n					\n						\n									REGISTER HERE
URL:https://eugreenalliance.eu/event/meeting-in-brussels-of-the-44-european-coordinators-of-european-universities/
ATTACH;FMTTYPE=image/jpeg:https://eugreenalliance.eu/wp-content/uploads/2023/04/brussels-gb87a75ff1_1280.jpg
END:VEVENT
BEGIN:VEVENT
DTSTART;TZID=Europe/Madrid:20220531T080000
DTEND;TZID=Europe/Madrid:20220603T170000
DTSTAMP:20260422T234702
CREATED:20220715T095750Z
LAST-MODIFIED:20220715T112132Z
UID:1305-1653984000-1654275600@eugreenalliance.eu
SUMMARY:EU GREEN partners in NAFSA
DESCRIPTION:Organised within the framework of the Research workpackage (WP3)\, these EU GREEN Research Webinars offer researchers and doctoral candidates the opportunity to share their work with a broad European academic community. They foster scientific collaboration\, help identify potential partners\, and support the development of a network around interdisciplinary research topics. Topic: The Importance of Social Marketing in Achieving the Sustainable Development Goals (SDGs). A Case StudySocial marketing is considered a key tool to contribute to achieving the 17 Sustainable Development Goals (SDGs) of the United Nations 2030 Agenda. This webinar will introduce the concept of social marketing\, explore its various areas of application through concrete examples\, and present a case study to illustrate its real-world impact. Speaker: Mercedes Galán-Ladero\, Professor at the University of ExtremaduraDate: Wednesday 28th May 2025\, from 4:00 to 5:00 pm (CET)Online on Teams:								\n				\n				\n				\n									\n					\n						\n									REGISTER HERE
URL:https://eugreenalliance.eu/event/eu-green-partners-in-nafsa/
LOCATION:NAFSA\, Denver\, CO\, United States
ATTACH;FMTTYPE=image/jpeg:https://eugreenalliance.eu/wp-content/uploads/2022/07/nafsa-copy.jpg
END:VEVENT
BEGIN:VEVENT
DTSTART;TZID=Europe/Madrid:20220509T080000
DTEND;TZID=Europe/Madrid:20220510T170000
DTSTAMP:20260422T234702
CREATED:20220715T100153Z
LAST-MODIFIED:20220715T111730Z
UID:1310-1652083200-1652202000@eugreenalliance.eu
SUMMARY:Europe´s Day in UA
DESCRIPTION:Organised within the framework of the Research workpackage (WP3)\, these EU GREEN Research Webinars offer researchers and doctoral candidates the opportunity to share their work with a broad European academic community. They foster scientific collaboration\, help identify potential partners\, and support the development of a network around interdisciplinary research topics. Topic: The Importance of Social Marketing in Achieving the Sustainable Development Goals (SDGs). A Case StudySocial marketing is considered a key tool to contribute to achieving the 17 Sustainable Development Goals (SDGs) of the United Nations 2030 Agenda. This webinar will introduce the concept of social marketing\, explore its various areas of application through concrete examples\, and present a case study to illustrate its real-world impact. Speaker: Mercedes Galán-Ladero\, Professor at the University of ExtremaduraDate: Wednesday 28th May 2025\, from 4:00 to 5:00 pm (CET)Online on Teams:								\n				\n				\n				\n									\n					\n						\n									REGISTER HERE
URL:https://eugreenalliance.eu/event/europes-day-in-ua-2/
LOCATION:Université Angers\, Angers\, France
ATTACH;FMTTYPE=image/jpeg:https://eugreenalliance.eu/wp-content/uploads/2022/07/nobel.jpg
END:VEVENT
BEGIN:VEVENT
DTSTART;TZID=Europe/Madrid:20220503T080000
DTEND;TZID=Europe/Madrid:20220509T170000
DTSTAMP:20260422T234702
CREATED:20220715T100048Z
LAST-MODIFIED:20220715T112108Z
UID:1308-1651564800-1652115600@eugreenalliance.eu
SUMMARY:Europe´s Day in UA
DESCRIPTION:Organised within the framework of the Research workpackage (WP3)\, these EU GREEN Research Webinars offer researchers and doctoral candidates the opportunity to share their work with a broad European academic community. They foster scientific collaboration\, help identify potential partners\, and support the development of a network around interdisciplinary research topics. Topic: The Importance of Social Marketing in Achieving the Sustainable Development Goals (SDGs). A Case StudySocial marketing is considered a key tool to contribute to achieving the 17 Sustainable Development Goals (SDGs) of the United Nations 2030 Agenda. This webinar will introduce the concept of social marketing\, explore its various areas of application through concrete examples\, and present a case study to illustrate its real-world impact. Speaker: Mercedes Galán-Ladero\, Professor at the University of ExtremaduraDate: Wednesday 28th May 2025\, from 4:00 to 5:00 pm (CET)Online on Teams:								\n				\n				\n				\n									\n					\n						\n									REGISTER HERE
URL:https://eugreenalliance.eu/event/europes-day-in-ua/
LOCATION:Université Angers\, Angers\, France
ATTACH;FMTTYPE=image/jpeg:https://eugreenalliance.eu/wp-content/uploads/2022/07/europe-day-angers-1-copy.jpg
END:VEVENT
BEGIN:VEVENT
DTSTART;TZID=Europe/Madrid:20220421T080000
DTEND;TZID=Europe/Madrid:20220422T170000
DTSTAMP:20260422T234702
CREATED:20220715T095433Z
LAST-MODIFIED:20220715T112036Z
UID:1302-1650528000-1650646800@eugreenalliance.eu
SUMMARY:UEx at UNIPR
DESCRIPTION:Organised within the framework of the Research workpackage (WP3)\, these EU GREEN Research Webinars offer researchers and doctoral candidates the opportunity to share their work with a broad European academic community. They foster scientific collaboration\, help identify potential partners\, and support the development of a network around interdisciplinary research topics. Topic: The Importance of Social Marketing in Achieving the Sustainable Development Goals (SDGs). A Case StudySocial marketing is considered a key tool to contribute to achieving the 17 Sustainable Development Goals (SDGs) of the United Nations 2030 Agenda. This webinar will introduce the concept of social marketing\, explore its various areas of application through concrete examples\, and present a case study to illustrate its real-world impact. Speaker: Mercedes Galán-Ladero\, Professor at the University of ExtremaduraDate: Wednesday 28th May 2025\, from 4:00 to 5:00 pm (CET)Online on Teams:								\n				\n				\n				\n									\n					\n						\n									REGISTER HERE
URL:https://eugreenalliance.eu/event/uex-at-unipr/
LOCATION:Università degli studi di Parma\, Parma\, Italy
ATTACH;FMTTYPE=image/jpeg:https://eugreenalliance.eu/wp-content/uploads/2022/07/parma-copy.jpg
END:VEVENT
BEGIN:VEVENT
DTSTART;TZID=Europe/Madrid:20220309T080000
DTEND;TZID=Europe/Madrid:20220311T170000
DTSTAMP:20260422T234702
CREATED:20220715T095140Z
LAST-MODIFIED:20220715T112503Z
UID:1299-1646812800-1647018000@eugreenalliance.eu
SUMMARY:Brussels event
DESCRIPTION:Organised within the framework of the Research workpackage (WP3)\, these EU GREEN Research Webinars offer researchers and doctoral candidates the opportunity to share their work with a broad European academic community. They foster scientific collaboration\, help identify potential partners\, and support the development of a network around interdisciplinary research topics. Topic: The Importance of Social Marketing in Achieving the Sustainable Development Goals (SDGs). A Case StudySocial marketing is considered a key tool to contribute to achieving the 17 Sustainable Development Goals (SDGs) of the United Nations 2030 Agenda. This webinar will introduce the concept of social marketing\, explore its various areas of application through concrete examples\, and present a case study to illustrate its real-world impact. Speaker: Mercedes Galán-Ladero\, Professor at the University of ExtremaduraDate: Wednesday 28th May 2025\, from 4:00 to 5:00 pm (CET)Online on Teams:								\n				\n				\n				\n									\n					\n						\n									REGISTER HERE
URL:https://eugreenalliance.eu/event/brussels-event/
LOCATION:Brussels\, Regional Office of Extremadura in Brussels\, Brussels\, Brussels\, Belgium
ATTACH;FMTTYPE=image/jpeg:https://eugreenalliance.eu/wp-content/uploads/2022/07/parlamento-europeo.jpeg
END:VEVENT
BEGIN:VEVENT
DTSTART;TZID=Europe/Madrid:20211209T080000
DTEND;TZID=Europe/Madrid:20211210T170000
DTSTAMP:20260422T234702
CREATED:20220715T094605Z
LAST-MODIFIED:20220715T111936Z
UID:1296-1639036800-1639155600@eugreenalliance.eu
SUMMARY:EU GREEN Virtual Meeting | Badajoz (Spain) event
DESCRIPTION:Organised within the framework of the Research workpackage (WP3)\, these EU GREEN Research Webinars offer researchers and doctoral candidates the opportunity to share their work with a broad European academic community. They foster scientific collaboration\, help identify potential partners\, and support the development of a network around interdisciplinary research topics. Topic: The Importance of Social Marketing in Achieving the Sustainable Development Goals (SDGs). A Case StudySocial marketing is considered a key tool to contribute to achieving the 17 Sustainable Development Goals (SDGs) of the United Nations 2030 Agenda. This webinar will introduce the concept of social marketing\, explore its various areas of application through concrete examples\, and present a case study to illustrate its real-world impact. Speaker: Mercedes Galán-Ladero\, Professor at the University of ExtremaduraDate: Wednesday 28th May 2025\, from 4:00 to 5:00 pm (CET)Online on Teams:								\n				\n				\n				\n									\n					\n						\n									REGISTER HERE
URL:https://eugreenalliance.eu/event/eu-green-virtual-meeting-badajoz-spain-event/
LOCATION:Universidad de Extremadura\, Campus Badajoz\, Badajoz\, Spain
ATTACH;FMTTYPE=image/jpeg:https://eugreenalliance.eu/wp-content/uploads/2022/07/meetning-copy.jpg
END:VEVENT
BEGIN:VEVENT
DTSTART;TZID=Europe/Madrid:20210922T080000
DTEND;TZID=Europe/Madrid:20210924T170000
DTSTAMP:20260422T234702
CREATED:20220715T094043Z
LAST-MODIFIED:20220715T111844Z
UID:1293-1632297600-1632502800@eugreenalliance.eu
SUMMARY:Angers event | Signature of the MoU
DESCRIPTION:Organised within the framework of the Research workpackage (WP3)\, these EU GREEN Research Webinars offer researchers and doctoral candidates the opportunity to share their work with a broad European academic community. They foster scientific collaboration\, help identify potential partners\, and support the development of a network around interdisciplinary research topics. Topic: The Importance of Social Marketing in Achieving the Sustainable Development Goals (SDGs). A Case StudySocial marketing is considered a key tool to contribute to achieving the 17 Sustainable Development Goals (SDGs) of the United Nations 2030 Agenda. This webinar will introduce the concept of social marketing\, explore its various areas of application through concrete examples\, and present a case study to illustrate its real-world impact. Speaker: Mercedes Galán-Ladero\, Professor at the University of ExtremaduraDate: Wednesday 28th May 2025\, from 4:00 to 5:00 pm (CET)Online on Teams:								\n				\n				\n				\n									\n					\n						\n									REGISTER HERE
URL:https://eugreenalliance.eu/event/angers-event-signature-of-the-mou/
LOCATION:Université Angers\, Angers\, France
ATTACH;FMTTYPE=image/jpeg:https://eugreenalliance.eu/wp-content/uploads/2022/07/angers1-copy.jpg
END:VEVENT
END:VCALENDAR