BEGIN:VCALENDAR
VERSION:2.0
PRODID:-//EU GREEN - ECPv6.15.13//NONSGML v1.0//EN
CALSCALE:GREGORIAN
METHOD:PUBLISH
X-WR-CALNAME:EU GREEN
X-ORIGINAL-URL:https://eugreenalliance.eu
X-WR-CALDESC:Events for EU GREEN
REFRESH-INTERVAL;VALUE=DURATION:PT1H
X-Robots-Tag:noindex
X-PUBLISHED-TTL:PT1H
BEGIN:VTIMEZONE
TZID:Europe/Madrid
BEGIN:DAYLIGHT
TZOFFSETFROM:+0100
TZOFFSETTO:+0200
TZNAME:CEST
DTSTART:20230326T010000
END:DAYLIGHT
BEGIN:STANDARD
TZOFFSETFROM:+0200
TZOFFSETTO:+0100
TZNAME:CET
DTSTART:20231029T010000
END:STANDARD
BEGIN:DAYLIGHT
TZOFFSETFROM:+0100
TZOFFSETTO:+0200
TZNAME:CEST
DTSTART:20240331T010000
END:DAYLIGHT
BEGIN:STANDARD
TZOFFSETFROM:+0200
TZOFFSETTO:+0100
TZNAME:CET
DTSTART:20241027T010000
END:STANDARD
BEGIN:DAYLIGHT
TZOFFSETFROM:+0100
TZOFFSETTO:+0200
TZNAME:CEST
DTSTART:20250330T010000
END:DAYLIGHT
BEGIN:STANDARD
TZOFFSETFROM:+0200
TZOFFSETTO:+0100
TZNAME:CET
DTSTART:20251026T010000
END:STANDARD
BEGIN:DAYLIGHT
TZOFFSETFROM:+0100
TZOFFSETTO:+0200
TZNAME:CEST
DTSTART:20260329T010000
END:DAYLIGHT
BEGIN:STANDARD
TZOFFSETFROM:+0200
TZOFFSETTO:+0100
TZNAME:CET
DTSTART:20261025T010000
END:STANDARD
END:VTIMEZONE
BEGIN:VEVENT
DTSTART;TZID=Europe/Madrid:20250228T120000
DTEND;TZID=Europe/Madrid:20250228T133000
DTSTAMP:20260422T033807
CREATED:20250114T180858Z
LAST-MODIFIED:20250117T102834Z
UID:96869-1740744000-1740749400@eugreenalliance.eu
SUMMARY:EU GREEN AMBASSADOR LUNCH TALK #7
DESCRIPTION:The EU GREEN Ambassadors Programme connects students with opportunities across EU GREEN member universities. Running from January to March 2025\, sessions are held every Friday at 12:00 CET online. Each week\, three universities present their academic programs\, mobility options\, and campus life\, followed by interactive Q&A sessions. \nMORE INFORMATION \nJOIN THE LUNCH TALK
URL:https://eugreenalliance.eu/event/eu-green-ambassador-lunch-talk-7/
LOCATION:ONLINE
CATEGORIES:EU GREEN Students event,Student event
ATTACH;FMTTYPE=image/png:https://eugreenalliance.eu/wp-content/uploads/2025/01/BANNER-WEB-1.png
END:VEVENT
BEGIN:VEVENT
DTSTART;TZID=Europe/Madrid:20250228T110000
DTEND;TZID=Europe/Madrid:20250228T123000
DTSTAMP:20260422T033807
CREATED:20250112T103211Z
LAST-MODIFIED:20250112T103211Z
UID:96728-1740740400-1740745800@eugreenalliance.eu
SUMMARY:INSECTOPIA WEBINAR: How Citizen Science Can Help the Study of Pollinators
DESCRIPTION:
URL:https://eugreenalliance.eu/event/insectopia-webinar-how-citizen-science-can-help-the-study-of-pollinators/
LOCATION:ONLINE
CATEGORIES:Webinar
END:VEVENT
BEGIN:VEVENT
DTSTART;TZID=Europe/Madrid:20250226T143000
DTEND;TZID=Europe/Madrid:20250226T153000
DTSTAMP:20260422T033807
CREATED:20250221T133911Z
LAST-MODIFIED:20250225T081010Z
UID:98159-1740580200-1740583800@eugreenalliance.eu
SUMMARY:MASTERCLASS: "Inclusion: Insights for its ongoing maintenance"
DESCRIPTION:The seminar examines inclusion and exclusion in the Italian education system\, highlighting good practices using Moodle LMS at the University of Parma. It also critically explores the potential and the related risks of artificial intelligence\, questioning its real impact on practices in education. \nREGISTER HERE\n 
URL:https://eugreenalliance.eu/event/masterclass-inclusion-insights-for-its-ongoing-maintenance/
LOCATION:ONLINE
CATEGORIES:Masterclass
ATTACH;FMTTYPE=image/png:https://eugreenalliance.eu/wp-content/uploads/2025/02/5.png
END:VEVENT
BEGIN:VEVENT
DTSTART;TZID=Europe/Madrid:20250225T110000
DTEND;TZID=Europe/Madrid:20250225T123000
DTSTAMP:20260422T033807
CREATED:20250112T103117Z
LAST-MODIFIED:20250112T103117Z
UID:96726-1740481200-1740486600@eugreenalliance.eu
SUMMARY:INSECTOPIA WEBINAR: Rewarding Farmland Pollinator/Insect Diversity Through Results-Based Agri-Environment Schemes
DESCRIPTION:
URL:https://eugreenalliance.eu/event/insectopia-webinar-rewarding-farmland-pollinator-insect-diversity-through-results-based-agri-environment-schemes/
LOCATION:ONLINE
CATEGORIES:Webinar
END:VEVENT
BEGIN:VEVENT
DTSTART;TZID=Europe/Madrid:20250221T120000
DTEND;TZID=Europe/Madrid:20250221T133000
DTSTAMP:20260422T033807
CREATED:20250218T113554Z
LAST-MODIFIED:20250218T113554Z
UID:98038-1740139200-1740144600@eugreenalliance.eu
SUMMARY:EU GREEN AMBASSADOR LUNCH TALK #6
DESCRIPTION:The EU GREEN Ambassadors Programme connects students with opportunities across EU GREEN member universities. Running from January to March 2025\, sessions are held every Friday at 12:00 CET online. Each week\, three universities present their academic programs\, mobility options\, and campus life\, followed by interactive Q&A sessions. \nMORE INFORMATION \nJOIN THE LUNCH TALK 
URL:https://eugreenalliance.eu/event/eu-green-ambassador-lunch-talk-6-2/
LOCATION:ONLINE
CATEGORIES:EU GREEN Students event,Student event
ATTACH;FMTTYPE=image/jpeg:https://eugreenalliance.eu/wp-content/uploads/2025/02/Imagen-de-WhatsApp-2025-02-18-a-las-12.32.29_a2af6235.jpg
END:VEVENT
BEGIN:VEVENT
DTSTART;TZID=Europe/Madrid:20250220T130000
DTEND;TZID=Europe/Madrid:20250220T134500
DTSTAMP:20260422T033807
CREATED:20250207T112533Z
LAST-MODIFIED:20250207T112533Z
UID:97723-1740056400-1740059100@eugreenalliance.eu
SUMMARY:STAKEHOLDER LECTURE SERIES:  Developing internal capacities to meet external challenges
DESCRIPTION:In 2015\, the UN Sustainable Development Goals (SDGs) provided a comprehensive plan for a sustainable world by 2030. However\, progress is not happening fast enough\, and we urgently need to increase our collective abilities to face and work effectively with complex challenges. \nInner Development Goals (IDG) is a non-profit initiative committed to fostering inner development towards more sustainable futures. The initiative focus on research by collecting and communicating science-based skills and qualities that help us to live purposeful\, sustainable\, and productive lives and bring the power of inner development to global challenges faced by humanity. \n\nSofia Lord – Support for Learning for Sustainable Development\, Municipality of Gävle\nSignhild Olsson – Operations Manager\, Regional Development Center for School Cooperation\, University of Gävle\nFebruary 20\, 2025. 13:00 – 13:45 CET\nUniversity of Gävle (HiG)\n\nREGISTER HERE
URL:https://eugreenalliance.eu/event/stakeholder-lecture-series-developing-internal-capacities-to-meet-external-challenges/
LOCATION:ONLINE
CATEGORIES:Webinar
ATTACH;FMTTYPE=image/png:https://eugreenalliance.eu/wp-content/uploads/2025/02/3.png
END:VEVENT
BEGIN:VEVENT
DTSTART;TZID=Europe/Madrid:20250214T120000
DTEND;TZID=Europe/Madrid:20250214T133000
DTSTAMP:20260422T033807
CREATED:20250114T180850Z
LAST-MODIFIED:20250114T180850Z
UID:96867-1739534400-1739539800@eugreenalliance.eu
SUMMARY:EU GREEN AMBASSADOR LUNCH TALK #5
DESCRIPTION:The EU GREEN Ambassadors Programme connects students with opportunities across EU GREEN member universities. Running from January to March 2025\, sessions are held every Friday at 12:00 CET online. Each week\, three universities present their academic programs\, mobility options\, and campus life\, followed by interactive Q&A sessions. \nMORE INFORMATION \nJOIN THE LUNCH TALK
URL:https://eugreenalliance.eu/event/eu-green-ambassador-lunch-talk-5/
LOCATION:ONLINE
CATEGORIES:EU GREEN Students event,Student event
ATTACH;FMTTYPE=image/png:https://eugreenalliance.eu/wp-content/uploads/2025/01/BANNER-WEB-1.png
END:VEVENT
BEGIN:VEVENT
DTSTART;TZID=Europe/Madrid:20250212T160000
DTEND;TZID=Europe/Madrid:20250212T170000
DTSTAMP:20260422T033807
CREATED:20250204T125345Z
LAST-MODIFIED:20250204T125345Z
UID:97656-1739376000-1739379600@eugreenalliance.eu
SUMMARY:RESEARCH WEBINAR: Biological invasions – What does it mean for European phytopathology?
DESCRIPTION:This webinar will discuss invasive alien species (IAS) and their phytosanitary impacts in Europe. It will highlight research conducted in Poland (2017-2024) on fungi associated with invasive plants\, pathogen identification\, and the role of cities as hotspots for IAS mycobiota diversification. \nSpeaker: Dr. Katarzyna Patejuk\, Assistant professor at Wrocław University of Environmental and Life Sciences\, Department of Plant Protection\, Division of Plant Pathology and Mycology
URL:https://eugreenalliance.eu/event/research-webinar-biological-invasions-what-does-it-mean-for-european-phytopathology/
LOCATION:ONLINE
CATEGORIES:Webinar
ATTACH;FMTTYPE=image/jpeg:https://eugreenalliance.eu/wp-content/uploads/2025/02/Imagen-de-WhatsApp-2025-02-04-a-las-13.49.15_0e013f1c.jpg
END:VEVENT
BEGIN:VEVENT
DTSTART;TZID=Europe/Madrid:20250210T110000
DTEND;TZID=Europe/Madrid:20250210T123000
DTSTAMP:20260422T033807
CREATED:20250112T103009Z
LAST-MODIFIED:20250112T103009Z
UID:96724-1739185200-1739190600@eugreenalliance.eu
SUMMARY:INSECTOPIA WEBINAR: From Artificial Nests to AI Trail Cameras: New Technology for Studying and Monitoring Insect Biodiversity
DESCRIPTION:
URL:https://eugreenalliance.eu/event/insectopia-webinar-from-artificial-nests-to-ai-trail-cameras-new-technology-for-studying-and-monitoring-insect-biodiversity/
LOCATION:ONLINE
CATEGORIES:Webinar
END:VEVENT
BEGIN:VEVENT
DTSTART;TZID=Europe/Madrid:20250207T120000
DTEND;TZID=Europe/Madrid:20250207T133000
DTSTAMP:20260422T033807
CREATED:20250114T180847Z
LAST-MODIFIED:20250114T180847Z
UID:96866-1738929600-1738935000@eugreenalliance.eu
SUMMARY:EU GREEN AMBASSADOR LUNCH TALK #4
DESCRIPTION:The EU GREEN Ambassadors Programme connects students with opportunities across EU GREEN member universities. Running from January to March 2025\, sessions are held every Friday at 12:00 CET online. Each week\, three universities present their academic programs\, mobility options\, and campus life\, followed by interactive Q&A sessions. \nMORE INFORMATION \nJOIN THE LUNCH TALK
URL:https://eugreenalliance.eu/event/eu-green-ambassador-lunch-talk-4/
LOCATION:ONLINE
CATEGORIES:EU GREEN Students event,Student event
ATTACH;FMTTYPE=image/png:https://eugreenalliance.eu/wp-content/uploads/2025/01/BANNER-WEB-1.png
END:VEVENT
BEGIN:VEVENT
DTSTART;TZID=Europe/Madrid:20250204T120000
DTEND;TZID=Europe/Madrid:20250204T133000
DTSTAMP:20260422T033807
CREATED:20250129T080120Z
LAST-MODIFIED:20250129T080149Z
UID:97422-1738670400-1738675800@eugreenalliance.eu
SUMMARY:Yoga and mindfulness for balance in life - (UG) (Sweden)
DESCRIPTION:Welcome to a relaxing time where you can try yoga\, deep relaxation and meditation. You will also learn how yoga and mindfulness can relieve stress. As part of the University’s student support activities “Always on a Tuesday” and the University’s participation in EU-GREEN to create a more sustainable and healthy campus\, this event is offered to both staff and students at the University. The event is also a part of World Harmony Week 3-7 February.
URL:https://eugreenalliance.eu/event/yoga-and-mindfulness-for-balance-in-life-ug-sweden/
LOCATION:Högskolan i Gävle\, Sweden
ATTACH;FMTTYPE=image/webp:https://eugreenalliance.eu/wp-content/uploads/2025/01/Yoga.webp
END:VEVENT
BEGIN:VEVENT
DTSTART;VALUE=DATE:20250203
DTEND;VALUE=DATE:20250208
DTSTAMP:20260422T033807
CREATED:20241029T122047Z
LAST-MODIFIED:20250112T115256Z
UID:95922-1738540800-1738972799@eugreenalliance.eu
SUMMARY:EU GREEN Sport Event - HiG (Sweden)
DESCRIPTION:University of Gävle hosts the Winter Sport Event in Gävle from 3-6 February\, 2025. Each university in the EU GREEN alliance has been invited to select students and staff to participate in the event. The event involves outdoor\, indoor and classroom activities. Cultural activities will also be included in the programme. \n \nSports and cultural activities are among the best ways to come together and develop a sense of belonging. These types of events are all the more necessary when it comes to students from challenging backgrounds. When preparing this task relevant stakeholders have been identified as associate partners. \n 
URL:https://eugreenalliance.eu/event/eu-green-sports-event-hig-sweden/
LOCATION:Högskolan i Gävle\, Sweden
CATEGORIES:EU GREEN Students event
ATTACH;FMTTYPE=image/png:https://eugreenalliance.eu/wp-content/uploads/2024/10/2-2.png
END:VEVENT
BEGIN:VEVENT
DTSTART;VALUE=DATE:20250201
DTEND;VALUE=DATE:20250208
DTSTAMP:20260422T033807
CREATED:20250112T111209Z
LAST-MODIFIED:20250112T120637Z
UID:96761-1738368000-1738972799@eugreenalliance.eu
SUMMARY:World Interfaith Harmony Week
DESCRIPTION:World Interfaith Harmony Week is devoted to strengthening the ideals of peace\, within and among all nations and peoples. EU GREEN celebrates this date with events and activities in its different universities.
URL:https://eugreenalliance.eu/event/world-interfaith-harmony-week/
LOCATION:EU GREEN ALLIANCE
CATEGORIES:International day
ATTACH;FMTTYPE=image/png:https://eugreenalliance.eu/wp-content/uploads/2025/01/whw-header.png
END:VEVENT
BEGIN:VEVENT
DTSTART;TZID=Europe/Madrid:20250131T120000
DTEND;TZID=Europe/Madrid:20250131T133000
DTSTAMP:20260422T033807
CREATED:20250114T180842Z
LAST-MODIFIED:20250114T180842Z
UID:96865-1738324800-1738330200@eugreenalliance.eu
SUMMARY:EU GREEN AMBASSADOR LUNCH TALK #3
DESCRIPTION:The EU GREEN Ambassadors Programme connects students with opportunities across EU GREEN member universities. Running from January to March 2025\, sessions are held every Friday at 12:00 CET online. Each week\, three universities present their academic programs\, mobility options\, and campus life\, followed by interactive Q&A sessions. \nMORE INFORMATION \nJOIN THE LUNCH TALK
URL:https://eugreenalliance.eu/event/eu-green-ambassador-lunch-talk-3/
LOCATION:ONLINE
CATEGORIES:EU GREEN Students event,Student event
ATTACH;FMTTYPE=image/png:https://eugreenalliance.eu/wp-content/uploads/2025/01/BANNER-WEB-1.png
END:VEVENT
BEGIN:VEVENT
DTSTART;TZID=Europe/Madrid:20250131T120000
DTEND;TZID=Europe/Madrid:20250131T130000
DTSTAMP:20260422T033807
CREATED:20250122T104223Z
LAST-MODIFIED:20250122T104223Z
UID:97066-1738324800-1738328400@eugreenalliance.eu
SUMMARY:STAKEHOLDER LECTURE SERIES:  Blue Bioeconomy and Sustainability
DESCRIPTION:The Webinar explores the innovative potential of the blue economy in advancing sustainability and examines strategies for connecting stakeholders\, informing policy development\, and fostering collaboration to support the blue bioeconomy. It highlights global best practices\, practical insights\, and actionable solutions that drive environmental and economic resilience\, focusing on how marine science and innovation contribute to sustainability efforts across sectors. \n\n\n\nDr. Majbritt Bolton-Warberg\, Blue Economy Programme Manager\, Marine Institute (Foras na Mara)\, Galway\, Ireland\n31st January. 12:00 CET\nAtlantic Technological University (ATU)\n\n\n\nREGISTER HERE
URL:https://eugreenalliance.eu/event/stakeholder-lecture-series-blue-bioeconomy-and-sustainability/
LOCATION:ONLINE
CATEGORIES:Webinar
ATTACH;FMTTYPE=image/png:https://eugreenalliance.eu/wp-content/uploads/2025/01/WEBINAR-A2-CET.png
END:VEVENT
BEGIN:VEVENT
DTSTART;TZID=Europe/Madrid:20250131T110000
DTEND;TZID=Europe/Madrid:20250131T123000
DTSTAMP:20260422T033807
CREATED:20250112T102910Z
LAST-MODIFIED:20250130T075314Z
UID:96722-1738321200-1738326600@eugreenalliance.eu
SUMMARY:INSECTOPIA WEBINAR: Pollinators in Rural Areas
DESCRIPTION:During the webinar\, you will learn what threats pollinators face in the rural landscape\, what methods can be used to enrich the local environment and improve it’s conditions for the insects\, and what local communities\, regardless of knowledge of pollinators\, passion for gardening or age\, can do for pollinators while gaining invaluable benefits from them. ​ \nWill you replicate any of the ideas in your neighborhood? Learn more at the webinar “Pollinators in rural areas”! \n 
URL:https://eugreenalliance.eu/event/insectopia-webinar-pollinators-in-rural-areas/
LOCATION:ONLINE
CATEGORIES:Webinar
ATTACH;FMTTYPE=image/jpeg:https://eugreenalliance.eu/wp-content/uploads/2025/01/WEBINARS-INSECTOPIA-Poster-1-Pollinators-in-rural-areas.jpg
END:VEVENT
BEGIN:VEVENT
DTSTART;TZID=Europe/Madrid:20250130T160000
DTEND;TZID=Europe/Madrid:20250130T170000
DTSTAMP:20260422T033807
CREATED:20250112T104857Z
LAST-MODIFIED:20250112T120607Z
UID:96746-1738252800-1738256400@eugreenalliance.eu
SUMMARY:RESEARCH WEBINARS: Introduction of the Leading Research Group "OncoVet" from UPWr to the EU Green Partners
DESCRIPTION:OncoVet is an interdisciplinary research group bringing together researchers at various stages of professional careers and from various fields of science\, whose main scientific interests focus on issues related to veterinary and comparative oncology. \nThe main goals of the Leading Research Group “OncoVet” include: \n• Consolidation of researchers dealing with veterinary oncology \n• Creation of a platform/environment for the exchange of experiences and ideas to create innovative research projects \n• Creation of a common network of contacts with domestic and foreign partners \n• Establishment of new scientific contacts in the country and abroad \n• Creation of a research group carrying out current and competitive research in the field of veterinary oncology \n• Establishment of commercial cooperation\, cooperation with business \n• Obtaining financial resources from external sources to implement the research directions chosen by the team \nREGISTER HERE
URL:https://eugreenalliance.eu/event/research-webinars-introduction-of-the-leading-research-group-oncovet-from-upwr-to-the-eu-green-partners/
LOCATION:ONLINE
CATEGORIES:Webinar
ATTACH;FMTTYPE=image/jpeg:https://eugreenalliance.eu/wp-content/uploads/2025/01/30-01-WEBINAR-1-scaled.jpg
END:VEVENT
BEGIN:VEVENT
DTSTART;TZID=Europe/Madrid:20250129T160000
DTEND;TZID=Europe/Madrid:20250129T170000
DTSTAMP:20260422T033807
CREATED:20250112T104500Z
LAST-MODIFIED:20250112T120555Z
UID:96732-1738166400-1738170000@eugreenalliance.eu
SUMMARY:RESEARCH WEBINAR: An analysis of the adoption of Robotics\, Artificial Intelligence and Service Automation (RAISA) for sustainable operations by the hotels sector of Ireland
DESCRIPTION:This webinar will present the preliminary findings in the use of RAISA by hotels in Ireland\, as well as identifying the enablers and barriers that play a part in the use of this technology by hotels. As this research aims at finding what supports the hotels need\, hotel owners and managers are welcome to attend this webinar. \nREGISTER HERE \n \n 
URL:https://eugreenalliance.eu/event/research-webinar-an-analysis-of-the-adoption-of-robotics-artificial-intelligence-and-service-automation-raisa-for-sustainable-operations-by-the-hotels-sector-of-ireland/
CATEGORIES:Webinar
ATTACH;FMTTYPE=image/jpeg:https://eugreenalliance.eu/wp-content/uploads/2025/01/29-01-WEBINAR-1-scaled.jpg
END:VEVENT
BEGIN:VEVENT
DTSTART;TZID=Europe/Madrid:20250124T120000
DTEND;TZID=Europe/Madrid:20250124T133000
DTSTAMP:20260422T033807
CREATED:20250114T180839Z
LAST-MODIFIED:20250114T180839Z
UID:96864-1737720000-1737725400@eugreenalliance.eu
SUMMARY:EU GREEN AMBASSADOR LUNCH TALK #2
DESCRIPTION:The EU GREEN Ambassadors Programme connects students with opportunities across EU GREEN member universities. Running from January to March 2025\, sessions are held every Friday at 12:00 CET online. Each week\, three universities present their academic programs\, mobility options\, and campus life\, followed by interactive Q&A sessions. \nMORE INFORMATION \nJOIN THE LUNCH TALK
URL:https://eugreenalliance.eu/event/eu-green-ambassador-lunch-talk-2/
LOCATION:ONLINE
CATEGORIES:EU GREEN Students event,Student event
ATTACH;FMTTYPE=image/png:https://eugreenalliance.eu/wp-content/uploads/2025/01/BANNER-WEB-1.png
END:VEVENT
BEGIN:VEVENT
DTSTART;VALUE=DATE:20250124
DTEND;VALUE=DATE:20250125
DTSTAMP:20260422T033807
CREATED:20250112T110951Z
LAST-MODIFIED:20250112T132707Z
UID:96756-1737676800-1737763199@eugreenalliance.eu
SUMMARY:International Day of Education
DESCRIPTION:Under the theme “AI and education: Preserving human agency in a world of automation”\, the 2025 International Day of Education inspires reflections on the power of education to equip individuals and communities navigate\, understand and influence technological advancement. EU GREEN celebrates this date with events and activities in its different universities.
URL:https://eugreenalliance.eu/event/international-day-of-education/
LOCATION:EU GREEN ALLIANCE
CATEGORIES:International day
ATTACH;FMTTYPE=image/jpeg:https://eugreenalliance.eu/wp-content/uploads/2025/01/EDUCATION-DAY-BANNER.jpg
END:VEVENT
BEGIN:VEVENT
DTSTART;VALUE=DATE:20250123
DTEND;VALUE=DATE:20250125
DTSTAMP:20260422T033807
CREATED:20241029T100234Z
LAST-MODIFIED:20250112T115316Z
UID:95913-1737590400-1737763199@eugreenalliance.eu
SUMMARY:EU GREEN Infrastructure week - UA (France)
DESCRIPTION:From 22-25 January 2025\, the University of Angers host the EU GREEN Infrastructure Week\, an event dedicated to advancing the alliance’s technical and collaborative frameworks. This event provides a unique opportunity for representatives from all universities to come together and work on critical infrastructure initiatives\, fostering the integration of innovative tools and methodologies across the Alliance.
URL:https://eugreenalliance.eu/event/eu-green-infrastructure-week-ua-france/
LOCATION:Université Angers\, Angers\, France
CATEGORIES:EU GREEN meeting
ATTACH;FMTTYPE=image/png:https://eugreenalliance.eu/wp-content/uploads/2024/10/infrastruDDSScture.png
END:VEVENT
BEGIN:VEVENT
DTSTART;TZID=Europe/Madrid:20250121T163000
DTEND;TZID=Europe/Madrid:20250121T173000
DTSTAMP:20260422T033807
CREATED:20250112T103607Z
LAST-MODIFIED:20250112T133925Z
UID:96730-1737477000-1737480600@eugreenalliance.eu
SUMMARY:RESEARCH WEBINAR: Corporate Governance and Artificial Intelligence
DESCRIPTION:The integration of artificial intelligence (AI) into corporate governance is transforming business decision-making by enhancing efficiency and objectivity\, while also presenting significant ethical and legal risks. This lecture will delve into the fundamentals of AI\, its impact on corporate management\, and relevant regulations in the European Union and Spain. We will explore the challenges posed by autonomous AI in decision-making bodies. \nREGISTER HERE
URL:https://eugreenalliance.eu/event/research-webinar-corporate-governance-and-artificial-intelligence/
LOCATION:ONLINE
CATEGORIES:Webinar
ATTACH;FMTTYPE=image/jpeg:https://eugreenalliance.eu/wp-content/uploads/2025/01/21-01-WEBINAR-1-scaled.jpg
END:VEVENT
BEGIN:VEVENT
DTSTART;TZID=Europe/Madrid:20250120T110000
DTEND;TZID=Europe/Madrid:20250120T123000
DTSTAMP:20260422T033807
CREATED:20250112T102816Z
LAST-MODIFIED:20250116T094106Z
UID:96719-1737370800-1737376200@eugreenalliance.eu
SUMMARY:INSECTOPIA WEBINAR: LANDART for Creative and Participatory Ecosystem Restoration
DESCRIPTION:
URL:https://eugreenalliance.eu/event/landart-for-creative-and-participatory-ecosystem-restoration/
LOCATION:ONLINE
CATEGORIES:Webinar
ATTACH;FMTTYPE=image/jpeg:https://eugreenalliance.eu/wp-content/uploads/2025/01/WEBINARS-INSECTOPIA-Poster-LANDART-ROMAN-UEx.jpg
END:VEVENT
BEGIN:VEVENT
DTSTART;TZID=Europe/Madrid:20250117T123000
DTEND;TZID=Europe/Madrid:20250117T133000
DTSTAMP:20260422T033807
CREATED:20250114T180835Z
LAST-MODIFIED:20250117T102712Z
UID:96863-1737117000-1737120600@eugreenalliance.eu
SUMMARY:EU GREEN AMBASSADOR LUNCH TALK #1
DESCRIPTION:The EU GREEN Ambassadors Programme connects students with opportunities across EU GREEN member universities. Running from January to March 2025\, sessions are held every Friday at 12:00 CET online. Each week\, three universities present their academic programs\, mobility options\, and campus life\, followed by interactive Q&A sessions. \nMORE INFORMATION \nJOIN THE LUNCH TALK
URL:https://eugreenalliance.eu/event/eu-green-ambassador-lunch-talk-1/
LOCATION:ONLINE
CATEGORIES:Student event
ATTACH;FMTTYPE=image/png:https://eugreenalliance.eu/wp-content/uploads/2025/01/BANNER-WEB-1.png
END:VEVENT
BEGIN:VEVENT
DTSTART;TZID=Europe/Madrid:20250117T110000
DTEND;TZID=Europe/Madrid:20250117T123000
DTSTAMP:20260422T033807
CREATED:20250112T102714Z
LAST-MODIFIED:20250112T135905Z
UID:96717-1737111600-1737117000@eugreenalliance.eu
SUMMARY:INSECTOPIA WEBINAR: Why Do We Need Pollinators? Role\, Threats\, and Protection of This Insect Group
DESCRIPTION:
URL:https://eugreenalliance.eu/event/insectopia-webinar-why-do-we-need-pollinators-role-threats-and-protection-of-this-insect-group/
LOCATION:ONLINE
CATEGORIES:Webinar
ATTACH;FMTTYPE=image/jpeg:https://eugreenalliance.eu/wp-content/uploads/2025/01/WEBINARS-INSECTOPIA-Poster-Why-do-we-need-pollinators-CUPSA.jpg
END:VEVENT
BEGIN:VEVENT
DTSTART;TZID=Europe/Madrid:20250116T110000
DTEND;TZID=Europe/Madrid:20250116T123000
DTSTAMP:20260422T033807
CREATED:20250112T102520Z
LAST-MODIFIED:20250112T135802Z
UID:96715-1737025200-1737030600@eugreenalliance.eu
SUMMARY:INSECTOPIA WEBINAR: Architectural Spaces for Insects and People
DESCRIPTION:
URL:https://eugreenalliance.eu/event/insectopia-webinar-architectural-spaces-for-insects-and-people/
CATEGORIES:Webinar
ATTACH;FMTTYPE=image/jpeg:https://eugreenalliance.eu/wp-content/uploads/2025/01/WEBINARS-INSECTOPIA-Poster-Architectural-Spaces-UO.jpg
END:VEVENT
BEGIN:VEVENT
DTSTART;TZID=Europe/Madrid:20250115T130000
DTEND;TZID=Europe/Madrid:20250115T143000
DTSTAMP:20260422T033807
CREATED:20250112T101835Z
LAST-MODIFIED:20250112T134035Z
UID:96710-1736946000-1736951400@eugreenalliance.eu
SUMMARY:MASTERCLASS: "System Thinking"
DESCRIPTION:The EU GREEN Alliance invites you to an engaging Masterclass titled “Systems Thinking”\, organized by Wrocław University of Environmental and Life Sciences. Led by Assoc. Professor Jan Kazak from the Department of Systems Research\, this session will delve into the fascinating world of interconnected decisions\, phenomena\, and their cumulative effects. \nRegister here
URL:https://eugreenalliance.eu/event/masterclass-system-thinking/
LOCATION:ONLINE
CATEGORIES:Masterclass
ATTACH;FMTTYPE=image/png:https://eugreenalliance.eu/wp-content/uploads/2025/01/THUMBNAIL.png
END:VEVENT
BEGIN:VEVENT
DTSTART;TZID=Europe/Madrid:20250115T110000
DTEND;TZID=Europe/Madrid:20250115T123000
DTSTAMP:20260422T033807
CREATED:20250112T102358Z
LAST-MODIFIED:20250112T135731Z
UID:96713-1736938800-1736944200@eugreenalliance.eu
SUMMARY:INSECTOPIA WEBINAR: Pollinators: Diversity\, Importance\, and Causes of Their Decline
DESCRIPTION:
URL:https://eugreenalliance.eu/event/insectopia-webinar-pollinators-diversity-importance-and-causes-of-their-decline/
LOCATION:ONLINE
CATEGORIES:Webinar
ATTACH;FMTTYPE=image/jpeg:https://eugreenalliance.eu/wp-content/uploads/2025/01/WEBINARS-INSECTOPIA-Poster-Pollinators-VALTUENA.jpg
END:VEVENT
BEGIN:VEVENT
DTSTART;TZID=Europe/Madrid:20241203T093000
DTEND;TZID=Europe/Madrid:20241203T140000
DTSTAMP:20260422T033807
CREATED:20241128T100858Z
LAST-MODIFIED:20241129T095911Z
UID:96266-1733218200-1733234400@eugreenalliance.eu
SUMMARY:EU GREEN WEBINAR - Food and Conscious Consumption
DESCRIPTION:
URL:https://eugreenalliance.eu/event/eu-green-webinar-food-and-conscious-consumption/
LOCATION:ONLINE
END:VEVENT
BEGIN:VEVENT
DTSTART;VALUE=DATE:20241126
DTEND;VALUE=DATE:20241129
DTSTAMP:20260422T033807
CREATED:20240919T100309Z
LAST-MODIFIED:20241129T102356Z
UID:95517-1732579200-1732838399@eugreenalliance.eu
SUMMARY:Entrepreneurship and Innovation Festival - UÉ (Portugal)
DESCRIPTION:
URL:https://eugreenalliance.eu/event/entrepreneurship-and-innovation-festival/
LOCATION:Universidade de Evora\, Portugal
END:VEVENT
END:VCALENDAR