BEGIN:VCALENDAR
VERSION:2.0
PRODID:-//EU GREEN - ECPv6.15.13//NONSGML v1.0//EN
CALSCALE:GREGORIAN
METHOD:PUBLISH
X-WR-CALNAME:EU GREEN
X-ORIGINAL-URL:https://eugreenalliance.eu
X-WR-CALDESC:Events for EU GREEN
REFRESH-INTERVAL;VALUE=DURATION:PT1H
X-Robots-Tag:noindex
X-PUBLISHED-TTL:PT1H
BEGIN:VTIMEZONE
TZID:Europe/Madrid
BEGIN:DAYLIGHT
TZOFFSETFROM:+0100
TZOFFSETTO:+0200
TZNAME:CEST
DTSTART:20200329T010000
END:DAYLIGHT
BEGIN:STANDARD
TZOFFSETFROM:+0200
TZOFFSETTO:+0100
TZNAME:CET
DTSTART:20201025T010000
END:STANDARD
BEGIN:DAYLIGHT
TZOFFSETFROM:+0100
TZOFFSETTO:+0200
TZNAME:CEST
DTSTART:20210328T010000
END:DAYLIGHT
BEGIN:STANDARD
TZOFFSETFROM:+0200
TZOFFSETTO:+0100
TZNAME:CET
DTSTART:20211031T010000
END:STANDARD
BEGIN:DAYLIGHT
TZOFFSETFROM:+0100
TZOFFSETTO:+0200
TZNAME:CEST
DTSTART:20220327T010000
END:DAYLIGHT
BEGIN:STANDARD
TZOFFSETFROM:+0200
TZOFFSETTO:+0100
TZNAME:CET
DTSTART:20221030T010000
END:STANDARD
BEGIN:DAYLIGHT
TZOFFSETFROM:+0100
TZOFFSETTO:+0200
TZNAME:CEST
DTSTART:20230326T010000
END:DAYLIGHT
BEGIN:STANDARD
TZOFFSETFROM:+0200
TZOFFSETTO:+0100
TZNAME:CET
DTSTART:20231029T010000
END:STANDARD
BEGIN:DAYLIGHT
TZOFFSETFROM:+0100
TZOFFSETTO:+0200
TZNAME:CEST
DTSTART:20240331T010000
END:DAYLIGHT
BEGIN:STANDARD
TZOFFSETFROM:+0200
TZOFFSETTO:+0100
TZNAME:CET
DTSTART:20241027T010000
END:STANDARD
END:VTIMEZONE
BEGIN:VEVENT
DTSTART;VALUE=DATE:20231009
DTEND;VALUE=DATE:20231014
DTSTAMP:20260422T234710
CREATED:20230425T072933Z
LAST-MODIFIED:20230703T061610Z
UID:1584-1696809600-1697241599@eugreenalliance.eu
SUMMARY:Meeting of WP2 (Education) in Wrocław University of Environmental and Life Sciences
DESCRIPTION:
URL:https://eugreenalliance.eu/event/meeting-of-wp2-education-in-wroclaw-university-of-environmental-and-life-sciences/
ATTACH;FMTTYPE=image/png:https://eugreenalliance.eu/wp-content/uploads/2023/04/upwr-logotyp-en-pionowy.png
END:VEVENT
BEGIN:VEVENT
DTSTART;VALUE=DATE:20230925
DTEND;VALUE=DATE:20230928
DTSTAMP:20260422T234710
CREATED:20230425T073215Z
LAST-MODIFIED:20230912T065619Z
UID:1587-1695600000-1695859199@eugreenalliance.eu
SUMMARY:In person meeting for WP 7 (Inclusion) at the University of Oradea
DESCRIPTION:
URL:https://eugreenalliance.eu/event/in-person-meeting-for-wp-7-inclusion-at-the-university-of-oradea/
ATTACH;FMTTYPE=image/jpeg:https://eugreenalliance.eu/wp-content/uploads/2023/04/278576020_5720959821254394_2360788930023956930_n.jpg
END:VEVENT
BEGIN:VEVENT
DTSTART;VALUE=DATE:20230925
DTEND;VALUE=DATE:20230927
DTSTAMP:20260422T234710
CREATED:20230425T072745Z
LAST-MODIFIED:20230428T060827Z
UID:1581-1695600000-1695772799@eugreenalliance.eu
SUMMARY:Meeting of Rectors and Senate at the University of Parma
DESCRIPTION:
URL:https://eugreenalliance.eu/event/meeting-of-rectors-and-senate-at-the-university-of-parma/
ATTACH;FMTTYPE=image/jpeg:https://eugreenalliance.eu/wp-content/uploads/2023/04/unipr_centrato_2righe_pos_rgb.jpg
END:VEVENT
BEGIN:VEVENT
DTSTART;VALUE=DATE:20230914
DTEND;VALUE=DATE:20230916
DTSTAMP:20260422T234710
CREATED:20230425T072609Z
LAST-MODIFIED:20230428T060804Z
UID:1578-1694649600-1694822399@eugreenalliance.eu
SUMMARY:The Spanish presidency of the UE organizes a meeting in Barcelona for the 44 alliances
DESCRIPTION:Imagen de Jeff Chabot en Pixabay
URL:https://eugreenalliance.eu/event/the-spanish-presidency-of-the-ue-organizes-a-meeting-in-barcelona-for-the-44-alliances/
ATTACH;FMTTYPE=image/jpeg:https://eugreenalliance.eu/wp-content/uploads/2023/04/overlook-gc182ac70b_1280.jpg
END:VEVENT
BEGIN:VEVENT
DTSTART;VALUE=DATE:20230626
DTEND;VALUE=DATE:20230629
DTSTAMP:20260422T234710
CREATED:20230425T072300Z
LAST-MODIFIED:20230622T115608Z
UID:1572-1687737600-1687996799@eugreenalliance.eu
SUMMARY:Meeting at the University of Angers of WP3 (Research)
DESCRIPTION:
URL:https://eugreenalliance.eu/event/meeting-at-the-university-of-angers-of-wp3-research/
ATTACH;FMTTYPE=image/png:https://eugreenalliance.eu/wp-content/uploads/2023/04/logo-universite-angers.png
END:VEVENT
BEGIN:VEVENT
DTSTART;VALUE=DATE:20230601
DTEND;VALUE=DATE:20230602
DTSTAMP:20260422T234710
CREATED:20230425T072422Z
LAST-MODIFIED:20230428T060739Z
UID:1575-1685577600-1685663999@eugreenalliance.eu
SUMMARY:Student event at the University of Magdeburg
DESCRIPTION:
URL:https://eugreenalliance.eu/event/student-event-at-the-university-of-magdeburg/
ATTACH;FMTTYPE=image/png:https://eugreenalliance.eu/wp-content/uploads/2023/04/Otto_von_Guericke_Universitat_Magdeburg_logo.svg_.png
END:VEVENT
BEGIN:VEVENT
DTSTART;VALUE=DATE:20230530
DTEND;VALUE=DATE:20230602
DTSTAMP:20260422T234710
CREATED:20230515T122540Z
LAST-MODIFIED:20230515T122540Z
UID:1640-1685404800-1685663999@eugreenalliance.eu
SUMMARY:UEvora will host the WP 4 Staff week (from the 30th of May to June 1st)
DESCRIPTION:Also\, at Évora on the 19th and 20th\, a PM Agile Workshop for the UÉ team will be offered.
URL:https://eugreenalliance.eu/event/uevora-will-host-the-wp-4-staff-week-from-the-30th-of-may-to-june-1st/
ATTACH;FMTTYPE=image/png:https://eugreenalliance.eu/wp-content/uploads/2023/05/Logotipo-da-Universidade-de-Evora-vertical-1.png
END:VEVENT
BEGIN:VEVENT
DTSTART;VALUE=DATE:20230522
DTEND;VALUE=DATE:20230523
DTSTAMP:20260422T234710
CREATED:20230425T071925Z
LAST-MODIFIED:20230425T071925Z
UID:1566-1684713600-1684799999@eugreenalliance.eu
SUMMARY:The French Embassy in Spain organizes and event for European Alliances coordinated by Spanish universities
DESCRIPTION:Following the signature of the Treaty of Friendship and Cooperation between the French Republic and the Kingdom of Spain on 19 January 2023 in Barcelona\, and on the eve of the Spanish Presidency of the Council of the European Union (PEUE)\, the  Embassy organizes a meeting with the following themes: \n\nThe internationalization of Alliances towards Africa and Latin America through the respective cultural and academic networks of France and Spain\nResearch activities of Alliances\nExternal and internal communication of Alliances\nJoint diploma\, European label and accreditation system\n\nThis event will be an opportunity to share good practices\, identify the obstacles encountered and reflect on the tools to overcome them\, while developing new collaborations. \nIt will pave the way towards the upcoming Forum of European Universities in Barcelona\, within the framework of the PEUE.
URL:https://eugreenalliance.eu/event/the-french-embassy-in-spain-organizes-and-event-for-european-alliances-coordinated-by-spanish-universities/
ATTACH;FMTTYPE=image/png:https://eugreenalliance.eu/wp-content/uploads/2023/04/Logo_de_lambassade_de_France_en_Espagne.svg_.png
END:VEVENT
BEGIN:VEVENT
DTSTART;VALUE=DATE:20230511
DTEND;VALUE=DATE:20230512
DTSTAMP:20260422T234710
CREATED:20230425T071521Z
LAST-MODIFIED:20230425T071746Z
UID:1563-1683763200-1683849599@eugreenalliance.eu
SUMMARY:EU GREEN Rectors meeting
DESCRIPTION:
URL:https://eugreenalliance.eu/event/eu-green-rectors-meeting/
ATTACH;FMTTYPE=image/jpeg:https://eugreenalliance.eu/wp-content/uploads/2023/04/ZoomMeeting.jpg
END:VEVENT
BEGIN:VEVENT
DTSTART;VALUE=DATE:20230428
DTEND;VALUE=DATE:20230429
DTSTAMP:20260422T234710
CREATED:20230425T071431Z
LAST-MODIFIED:20230425T071754Z
UID:1560-1682640000-1682726399@eugreenalliance.eu
SUMMARY:Meeting of Spanish Alliances at the Ministry of Higher Education
DESCRIPTION:The Spanish alliances will meet to debate about the pathway of the European Universities.
URL:https://eugreenalliance.eu/event/meeting-of-spanish-alliances-at-the-ministry-of-higher-education/
ATTACH;FMTTYPE=image/png:https://eugreenalliance.eu/wp-content/uploads/2023/04/european-comission.png
END:VEVENT
BEGIN:VEVENT
DTSTART;TZID=Europe/Madrid:20230306T100000
DTEND;TZID=Europe/Madrid:20230306T180000
DTSTAMP:20260422T234710
CREATED:20230224T072419Z
LAST-MODIFIED:20230224T072610Z
UID:1492-1678096800-1678125600@eugreenalliance.eu
SUMMARY:CONSULTATION MEETING WITH COORDINATORS OF THE EUROPEAN UNIVERSITIES
DESCRIPTION:Physical meeting. Albert Borschette centre\, Rue Froissart 36\, 1040 Brussels
URL:https://eugreenalliance.eu/event/consultation-meeting-with-coordinators-of-the-european-universities/
ATTACH;FMTTYPE=image/png:https://eugreenalliance.eu/wp-content/uploads/2023/02/Captura-de-pantalla-2023-02-23-a-las-14.05.51.png
END:VEVENT
BEGIN:VEVENT
DTSTART;VALUE=DATE:20230131
DTEND;VALUE=DATE:20230204
DTSTAMP:20260422T234710
CREATED:20230214T124323Z
LAST-MODIFIED:20230222T160444Z
UID:1451-1675123200-1675468799@eugreenalliance.eu
SUMMARY:Kick off Meeting is launched at UEx
DESCRIPTION:During these days\, the KOM was launched at UEx. Also the different delegations of the alliance worked together to establish the basis for the functioning of the consortium and the joint strategy for the next 4 years. The technical sessions included: technical meeting of rectors and vice-rectors\, finance\, training on agile methodologies\, Work Package meetings\, etc. \n \nOn Tuesday 31st\, the official inauguration was led by European\, Spanish national\, regional and EUGREEN authorities: Pedro F. Salguero\, Rector of the UEX\, Antonio Hidalgo\, former Rector\, Ylva Fältholm\, Rector of Gävle\, José Lorenzo Vallés\, Head of Unit for European Higher Education at the European Executive Agency for Education and Culture\, Rafael España Santamaría\, Regional Counsellor of Economy\, Science and Digital Agenda\, José Manuel González Canino\, Director of the Higher Education Unit\, to which the university community was invited\, as well as the general presentation that was broadcasted in streaming. The plenary session of the alliance was led by Meritxel Chaves\, Secretary General of the CHARM Alliance. \n\n		\n		\n			\n				\n			\n			\n				\n			\n				\n				Kick of Meeting is launched at UEx6\n				\n			\n				\n			\n				\n				Kick of Meeting is launched at UEx5\n				\n			\n				\n			\n				\n				Kick of Meeting is launched at UEx4\n				\n			\n				\n			\n			\n				\n			\n				\n				Kick of Meeting is launched at UEx2\n				\n			\n				\n			\n				\n				Kick of Meeting is launched at UEx 1
URL:https://eugreenalliance.eu/event/kick-of-meeting-is-launched-at-uex/
ATTACH;FMTTYPE=image/jpeg:https://eugreenalliance.eu/wp-content/uploads/2023/02/Kick-of-Meeting-is-launched-at-UEx.jpg
END:VEVENT
BEGIN:VEVENT
DTSTART;VALUE=DATE:20230130
DTEND;VALUE=DATE:20230131
DTSTAMP:20260422T234710
CREATED:20230214T124017Z
LAST-MODIFIED:20230222T102140Z
UID:1447-1675036800-1675123199@eugreenalliance.eu
SUMMARY:Ukrainian and EU GREEN Rectors’ session at Plenary Hall
DESCRIPTION:On 30th of January 2023 a meeting between EU GREEN Rectors and Ukrainian delegation took place at the Plenary Hall of the Town Hall of Cáceres in the presence of the deputy mayor of the city\, Mr. Jorge Villar Guijarro. The session was led by prof. Anna Chełmońska-Soyta\, vice-rector for Internationalization of the Wroclaw University of Environmental and Life Sciences (UPWr). During the session Krzysztof Kafarski\, Director of the International Relations Office at UPWr\, presented the assumptions of the INTERACT project. Then Prof. Ksenia Smyrnova\, vice-rector for internationalization – Taras Shevchenko National University of Kyiv\, gave a joint presentation of the Ukrainian side on the current situation of the higher education sector in conditions of a war-torn country. \nA discussion took place\, as a result of which an outline of the plan of cooperation and joint activities was established within the INTERACT project. All nine universities of the Alliance have declared their participation in the project. The Ukrainian side is to present the scope of its needs and expectations in the coming month relation to the INTERACT project. In this way\, EU GREEN consortium members will be able to meet their expectations and create tailor-made trainings\, study visits\, etc.\, which will involve the Ukrainian partners in the activities of the EU GREEN Alliance in the long-term perspective.
URL:https://eugreenalliance.eu/event/note-from-the-ukrainian-and-eu-green-rectors-session-at-plenary-hall/
ATTACH;FMTTYPE=image/jpeg:https://eugreenalliance.eu/wp-content/uploads/2023/02/Note-from-the-Ukrainian-and-EU-GREEN-Rectors-session-at-Plenary-Hall.jpg
END:VEVENT
BEGIN:VEVENT
DTSTART;VALUE=DATE:20230130
DTEND;VALUE=DATE:20230131
DTSTAMP:20260422T234710
CREATED:20230214T123529Z
LAST-MODIFIED:20230918T080535Z
UID:1440-1675036800-1675123199@eugreenalliance.eu
SUMMARY:The 9 EU GREEN Rectors and 10 Ukrainian rectors attend the Saint Thomas ceremony at UEx. UEx is very proud to welcome the EUGREEN delegations on its 50th birthday
DESCRIPTION:The EUGREEN rectors participated in the commemorative ceremony of St. Thomas Aquinas. They were joined by 10 rectors of Ukrainian universities who were invited in the framework of a cooperation project of the Polish Government and through the University of Wroclaw\, with the aim of symbolizing that universities are key to educate in human rights\, peace and solidarity. \n 
URL:https://eugreenalliance.eu/event/the-9-eugreen-rectors-and-10-ukrainian-rectors-attend-the-saint-thomas-ceremony-at-uex-uex-is-very-proud-to-welcome-the-eugreen-delegations-on-its-50th-birthday/
ATTACH;FMTTYPE=image/jpeg:https://eugreenalliance.eu/wp-content/uploads/2023/02/The-9-EUGREEN-Rectors-and-10-Ukrainian-rectors-attend-the-Saint-Thomas-ceremony-at-UEx.-UEx-is-very-proud-to-welcome-the-EUGREEN-delegations-on-its-50th-birthday.jpg
END:VEVENT
BEGIN:VEVENT
DTSTART;VALUE=DATE:20230101
DTEND;VALUE=DATE:20230102
DTSTAMP:20260422T234710
CREATED:20230425T073335Z
LAST-MODIFIED:20230425T073335Z
UID:1594-1672531200-1672617599@eugreenalliance.eu
SUMMARY:EU GREEN Kick-off Meeting at the University of Extremadura
DESCRIPTION:
URL:https://eugreenalliance.eu/event/eu-green-kick-off-meeting-at-the-university-of-extremadura/
END:VEVENT
BEGIN:VEVENT
DTSTART;VALUE=DATE:20221001
DTEND;VALUE=DATE:20221002
DTSTAMP:20260422T234710
CREATED:20230214T123218Z
LAST-MODIFIED:20230918T080540Z
UID:1437-1664582400-1664668799@eugreenalliance.eu
SUMMARY:The EU GREEN Rectors and rest of delegations get ready for the KOM
DESCRIPTION:
URL:https://eugreenalliance.eu/event/the-eugreen-rectors-and-rest-of-delegations-get-ready-for-the-kom/
ATTACH;FMTTYPE=image/jpeg:https://eugreenalliance.eu/wp-content/uploads/2023/02/The-EUGREEN-Rectors-and-rest-of-delegations-get-ready-for-the-KOM-1.jpg
END:VEVENT
BEGIN:VEVENT
DTSTART;VALUE=DATE:20220901
DTEND;VALUE=DATE:20220902
DTSTAMP:20260422T234710
CREATED:20230214T121952Z
LAST-MODIFIED:20230918T080544Z
UID:1434-1661990400-1662076799@eugreenalliance.eu
SUMMARY:UEx attends on behalf of EU GREEN to the CHARM alliance annual conference in Barcelona
DESCRIPTION:
URL:https://eugreenalliance.eu/event/uex-attends-on-behalf-of-eugreen-to-the-charm-alliance-annual-conference-in-barcelona/
ATTACH;FMTTYPE=image/jpeg:https://eugreenalliance.eu/wp-content/uploads/2023/02/UEx-attends-on-behalf-of-EUGREEN-to-the-CHARM-alliance-annual-conference-in-Barcelona.jpg
END:VEVENT
BEGIN:VEVENT
DTSTART;VALUE=DATE:20220801
DTEND;VALUE=DATE:20220802
DTSTAMP:20260422T234710
CREATED:20230214T121352Z
LAST-MODIFIED:20230918T080549Z
UID:1431-1659312000-1659398399@eugreenalliance.eu
SUMMARY:EU GREEN is proud to announce that Atlantic Technological University (Ireland) becomes partner of the alliance
DESCRIPTION:
URL:https://eugreenalliance.eu/event/eugreen-is-proud-to-announce-that-atlantic-technological-university-ireland-becomes-partner-of-the-alliance/
ATTACH;FMTTYPE=image/png:https://eugreenalliance.eu/wp-content/uploads/2023/02/BRAND-GUIDELINES-600X450-1.png
END:VEVENT
BEGIN:VEVENT
DTSTART;VALUE=DATE:20220801
DTEND;VALUE=DATE:20220802
DTSTAMP:20260422T234710
CREATED:20230425T073309Z
LAST-MODIFIED:20230425T073309Z
UID:1592-1659312000-1659398399@eugreenalliance.eu
SUMMARY:ATU (Atlantic Technological University) joins EU GREEN as the 9th partner
DESCRIPTION:
URL:https://eugreenalliance.eu/event/atu-atlantic-technological-university-joins-eu-green-as-the-9th-partner/
END:VEVENT
BEGIN:VEVENT
DTSTART;VALUE=DATE:20220728
DTEND;VALUE=DATE:20220729
DTSTAMP:20260422T234710
CREATED:20220728T110957Z
LAST-MODIFIED:20230918T080555Z
UID:1427-1658966400-1659052799@eugreenalliance.eu
SUMMARY:The UE funds 4 alliance and EU GREEN is one of them
DESCRIPTION:The alliance has been selected with a score of excellence by the European Commission as one of only four winners of the “European Universities” initiative across Europe in 2023 to start their cooperation and receive funding of more than 14 million euros over 4 years (renewable to 8). The alliance together forms a ‘supercampus’ with more than 158\,000 students and 18\,000 staff. The ‘European Universities’ initiative is promoted and funded by the European Union\, through the Erasmus+ program\, and aims to strengthen strategic alliances between universities in the European Union (EU) and increase international competitiveness within the European Higher Education Area.  \nClick here to learn more about it: https://education.ec.europa.eu/news/44-european-universities-to-cooperate-across-borders-and-disciplines \nFireworks image by Kohji Asakawa en Pixabay
URL:https://eugreenalliance.eu/event/the-ue-funds-4-alliance-and-eugreen-is-one-of-them/
ATTACH;FMTTYPE=image/jpeg:https://eugreenalliance.eu/wp-content/uploads/2023/02/fireworks-g95e69d5b6_1280.jpg
END:VEVENT
BEGIN:VEVENT
DTSTART;VALUE=DATE:20220711
DTEND;VALUE=DATE:20220716
DTSTAMP:20260422T234710
CREATED:20220601T094007Z
LAST-MODIFIED:20220601T094007Z
UID:1064-1657497600-1657929599@eugreenalliance.eu
SUMMARY:Summer School at UPWr
DESCRIPTION:In the 2022 edition you may choose between two courses offered to Summer School participants: \n1. Horses as a topic of scientific research for everyone. \nCovering topics like equine physiology and physiotherapy\, molecular studies\, cardiology and grasslands. \n2. Dogs and cats in interdisciplinary scientific research. \nCovering topics like oncology\, cardiology\, and reproduction. \nSummer school dates: \n\nJuly 4th – 8th\, 2022 online lectures\nJuly 11th – 15th\, 2022 workshops on the UPWr campus in Wrocław\, Poland\n\nRegistration deadline: May 31st\, 2022 \nThe summer school is free for successfully admitted participants. All students receive scholarships (around 1000 euros). \nUPWr Summer School is a great opportunity to learn from top academics and gain hands-on experience in your field of interest. You will meet like-minded individuals from all over the world\, discover new research opportunities and explore new places. There is no better way to make your summertime well-spent and unforgetful!
URL:https://eugreenalliance.eu/event/summer-school-at-upwr-2/
LOCATION:Wroclaw University of Environmental and Life Sciences\, Wroclaw\, Poland
ATTACH;FMTTYPE=image/png:https://eugreenalliance.eu/wp-content/uploads/2022/06/Captura-de-pantalla-2022-06-01-a-las-11.34.14.png
END:VEVENT
BEGIN:VEVENT
DTSTART;VALUE=DATE:20220704
DTEND;VALUE=DATE:20220709
DTSTAMP:20260422T234710
CREATED:20220601T093755Z
LAST-MODIFIED:20220601T093755Z
UID:1057-1656892800-1657324799@eugreenalliance.eu
SUMMARY:Summer School at UPWr
DESCRIPTION:In the 2022 edition you may choose between two courses offered to Summer School participants: \n1. Horses as a topic of scientific research for everyone. \nCovering topics like equine physiology and physiotherapy\, molecular studies\, cardiology and grasslands. \n2. Dogs and cats in interdisciplinary scientific research. \nCovering topics like oncology\, cardiology\, and reproduction. \nSummer school dates: \n\nJuly 4th – 8th\, 2022 online lectures\nJuly 11th – 15th\, 2022 workshops on the UPWr campus in Wrocław\, Poland\n\nRegistration deadline: May 31st\, 2022 \nThe summer school is free for successfully admitted participants. All students receive scholarships (around 1000 euros). \nUPWr Summer School is a great opportunity to learn from top academics and gain hands-on experience in your field of interest. You will meet like-minded individuals from all over the world\, discover new research opportunities and explore new places. There is no better way to make your summertime well-spent and unforgetful!
URL:https://eugreenalliance.eu/event/summer-school-at-upwr/
LOCATION:Wroclaw University of Environmental and Life Sciences\, Wroclaw\, Poland
ATTACH;FMTTYPE=image/png:https://eugreenalliance.eu/wp-content/uploads/2022/06/Captura-de-pantalla-2022-06-01-a-las-11.34.14.png
END:VEVENT
BEGIN:VEVENT
DTSTART;VALUE=DATE:20220701
DTEND;VALUE=DATE:20220702
DTSTAMP:20260422T234710
CREATED:20230425T073250Z
LAST-MODIFIED:20230425T073250Z
UID:1590-1656633600-1656719999@eugreenalliance.eu
SUMMARY:EU GREEN is selected in the European Universities Call 2022
DESCRIPTION:
URL:https://eugreenalliance.eu/event/eu-green-is-selected-in-the-european-universities-call-2022/
END:VEVENT
BEGIN:VEVENT
DTSTART;VALUE=DATE:20220601
DTEND;VALUE=DATE:20220602
DTSTAMP:20260422T234710
CREATED:20230425T072138Z
LAST-MODIFIED:20230425T072138Z
UID:1569-1654041600-1654127999@eugreenalliance.eu
SUMMARY:Meeting in Brussels of the 44 European Coordinators of European Universities
DESCRIPTION:Imagen de Joaquin Aranoa en Pixabay
URL:https://eugreenalliance.eu/event/meeting-in-brussels-of-the-44-european-coordinators-of-european-universities/
ATTACH;FMTTYPE=image/jpeg:https://eugreenalliance.eu/wp-content/uploads/2023/04/brussels-gb87a75ff1_1280.jpg
END:VEVENT
BEGIN:VEVENT
DTSTART;TZID=Europe/Madrid:20220531T080000
DTEND;TZID=Europe/Madrid:20220603T170000
DTSTAMP:20260422T234710
CREATED:20220715T095750Z
LAST-MODIFIED:20220715T112132Z
UID:1305-1653984000-1654275600@eugreenalliance.eu
SUMMARY:EU GREEN partners in NAFSA
DESCRIPTION:Partners of EU GREEN participated in NAFSA.  \nOur colleagues from SETU\, UA\, UNIPR and UO had the chance to meet again personally in Denver\, CO\, while representing their respective institutions in NAFSA.
URL:https://eugreenalliance.eu/event/eu-green-partners-in-nafsa/
LOCATION:NAFSA\, Denver\, CO\, United States
ATTACH;FMTTYPE=image/jpeg:https://eugreenalliance.eu/wp-content/uploads/2022/07/nafsa-copy.jpg
END:VEVENT
BEGIN:VEVENT
DTSTART;TZID=Europe/Madrid:20220509T080000
DTEND;TZID=Europe/Madrid:20220510T170000
DTSTAMP:20260422T234710
CREATED:20220715T100153Z
LAST-MODIFIED:20220715T111730Z
UID:1310-1652083200-1652202000@eugreenalliance.eu
SUMMARY:Europe´s Day in UA
DESCRIPTION:The Nobel Peace Prize Winner and former UA student at University of Angers’ Faculty of Health Denis Mukwege visited Angers on May 9 and 10 for Europe Day. Two conferences\, a film debate and the opening of an exhibition of previously unpublished photographs were organized for these two days.
URL:https://eugreenalliance.eu/event/europes-day-in-ua-2/
LOCATION:Université Angers\, Angers\, France
ATTACH;FMTTYPE=image/jpeg:https://eugreenalliance.eu/wp-content/uploads/2022/07/nobel.jpg
END:VEVENT
BEGIN:VEVENT
DTSTART;TZID=Europe/Madrid:20220503T080000
DTEND;TZID=Europe/Madrid:20220509T170000
DTSTAMP:20260422T234710
CREATED:20220715T100048Z
LAST-MODIFIED:20220715T112108Z
UID:1308-1651564800-1652115600@eugreenalliance.eu
SUMMARY:Europe´s Day in UA
DESCRIPTION:UA called on students to express their creativity for Europe Day. \nDupin & Duclos\, two artists came at UA to brainstorm with students about the representation of the world. The ideas were then drawn by the two artists on four canvas.
URL:https://eugreenalliance.eu/event/europes-day-in-ua/
LOCATION:Université Angers\, Angers\, France
ATTACH;FMTTYPE=image/jpeg:https://eugreenalliance.eu/wp-content/uploads/2022/07/europe-day-angers-1-copy.jpg
END:VEVENT
BEGIN:VEVENT
DTSTART;TZID=Europe/Madrid:20220421T080000
DTEND;TZID=Europe/Madrid:20220422T170000
DTSTAMP:20260422T234710
CREATED:20220715T095433Z
LAST-MODIFIED:20220715T112036Z
UID:1302-1650528000-1650646800@eugreenalliance.eu
SUMMARY:UEx at UNIPR
DESCRIPTION:Steering Committee visit to Parma in April to work on the Nursing and Medicine fields.
URL:https://eugreenalliance.eu/event/uex-at-unipr/
LOCATION:Università degli studi di Parma\, Parma\, Italy
ATTACH;FMTTYPE=image/jpeg:https://eugreenalliance.eu/wp-content/uploads/2022/07/parma-copy.jpg
END:VEVENT
BEGIN:VEVENT
DTSTART;TZID=Europe/Madrid:20220309T080000
DTEND;TZID=Europe/Madrid:20220311T170000
DTSTAMP:20260422T234710
CREATED:20220715T095140Z
LAST-MODIFIED:20220715T112503Z
UID:1299-1646812800-1647018000@eugreenalliance.eu
SUMMARY:Brussels event
DESCRIPTION:Brussels in-person meeting of the already 9 members of the Alliance. \nWorkshops among the 9 EU GREEN members as to set up the final state of the submission. \nThe event included visits and meetings with the Regional Office of Extremadura in Brussels and other regional personalities\, and presentation of the project to the REPER as well as the possibility of having fruitful meetings with other personalities (Delegate of CPU in Brussels…) in the CSIC offices.  \nA visit to the European Parliament was also planned.
URL:https://eugreenalliance.eu/event/brussels-event/
LOCATION:Brussels\, Regional Office of Extremadura in Brussels\, Brussels\, Brussels\, Belgium
ATTACH;FMTTYPE=image/jpeg:https://eugreenalliance.eu/wp-content/uploads/2022/07/parlamento-europeo.jpeg
END:VEVENT
BEGIN:VEVENT
DTSTART;TZID=Europe/Madrid:20211209T080000
DTEND;TZID=Europe/Madrid:20211210T170000
DTSTAMP:20260422T234710
CREATED:20220715T094605Z
LAST-MODIFIED:20220715T111936Z
UID:1296-1639036800-1639155600@eugreenalliance.eu
SUMMARY:EU GREEN Virtual Meeting | Badajoz (Spain) event
DESCRIPTION:EU GREEN Virtual meeting \nMore than 100 participants in different workshops from the (by-then) 8 universities\, all of them working to set-up the M&V of EU GREEN.Students\, Researchers\, Staff from all of the institutions of the Alliance and also the regional governments were involved in the meetings. Rectors had their meeting as well and collaborated actively in the workshops.This was the setting of what EU GREEN was meant to be. Nobody left behind. Reports on this news can be found here and in our Social Media.
URL:https://eugreenalliance.eu/event/eu-green-virtual-meeting-badajoz-spain-event/
LOCATION:Universidad de Extremadura\, Campus Badajoz\, Badajoz\, Spain
ATTACH;FMTTYPE=image/jpeg:https://eugreenalliance.eu/wp-content/uploads/2022/07/meetning-copy.jpg
END:VEVENT
END:VCALENDAR