BEGIN:VCALENDAR
VERSION:2.0
PRODID:-//EU GREEN - ECPv6.15.13//NONSGML v1.0//EN
CALSCALE:GREGORIAN
METHOD:PUBLISH
X-ORIGINAL-URL:https://eugreenalliance.eu
X-WR-CALDESC:Events for EU GREEN
REFRESH-INTERVAL;VALUE=DURATION:PT1H
X-Robots-Tag:noindex
X-PUBLISHED-TTL:PT1H
BEGIN:VTIMEZONE
TZID:Europe/Madrid
BEGIN:DAYLIGHT
TZOFFSETFROM:+0100
TZOFFSETTO:+0200
TZNAME:CEST
DTSTART:20240331T010000
END:DAYLIGHT
BEGIN:STANDARD
TZOFFSETFROM:+0200
TZOFFSETTO:+0100
TZNAME:CET
DTSTART:20241027T010000
END:STANDARD
BEGIN:DAYLIGHT
TZOFFSETFROM:+0100
TZOFFSETTO:+0200
TZNAME:CEST
DTSTART:20250330T010000
END:DAYLIGHT
BEGIN:STANDARD
TZOFFSETFROM:+0200
TZOFFSETTO:+0100
TZNAME:CET
DTSTART:20251026T010000
END:STANDARD
BEGIN:DAYLIGHT
TZOFFSETFROM:+0100
TZOFFSETTO:+0200
TZNAME:CEST
DTSTART:20260329T010000
END:DAYLIGHT
BEGIN:STANDARD
TZOFFSETFROM:+0200
TZOFFSETTO:+0100
TZNAME:CET
DTSTART:20261025T010000
END:STANDARD
END:VTIMEZONE
BEGIN:VEVENT
DTSTART;VALUE=DATE:20250201
DTEND;VALUE=DATE:20250208
DTSTAMP:20260422T001946
CREATED:20250112T111209Z
LAST-MODIFIED:20250112T120637Z
UID:96761-1738368000-1738972799@eugreenalliance.eu
SUMMARY:World Interfaith Harmony Week
DESCRIPTION:The EU GREEN Alliance invites students and staff to take part in the Train the Trainer programme  hosted at the University of Angers from May 11 to 13\, 2026. This 2.5-day course is designed to equip participants with the knowledge\, skills\, and attitudes needed to facilitate inclusive\, democratic\, and co-creative learning processes\, with a strong focus on participatory methodologies. Throughout the programme\, participants will engage in hands-on activities\, collaborative sessions\, and practical workshops aimed at developing facilitation skills and designing participatory learning experiences. After completing the training\, participants are expected to transfer and replicate these methods within their home institutions by organising local workshops and initiatives\, contributing to the broader impact of EU GREEN’s approach to sustainability and engagement. The course will take place at the Université d’Angers – Campus Saint Serge and will include interactive formats such as World Café sessions\, participatory design activities\, and simulated workshops\, offering a dynamic and experiential learning environment.  Registration open until April 19 								\n				\n					\n				\n		\n				\n				\n									\n					\n						\n									REGISTRATION HERE\n					\n					\n				\n								\n				\n				\n				\n									\n					\n						\n									DOWNLOAD FULL INFO
URL:https://eugreenalliance.eu/event/world-interfaith-harmony-week/
LOCATION:EU GREEN ALLIANCE
CATEGORIES:International day
ATTACH;FMTTYPE=image/png:https://eugreenalliance.eu/wp-content/uploads/2025/01/whw-header.png
END:VEVENT
BEGIN:VEVENT
DTSTART;VALUE=DATE:20250203
DTEND;VALUE=DATE:20250208
DTSTAMP:20260422T001946
CREATED:20241029T122047Z
LAST-MODIFIED:20250112T115256Z
UID:95922-1738540800-1738972799@eugreenalliance.eu
SUMMARY:EU GREEN Sport Event - HiG (Sweden)
DESCRIPTION:The EU GREEN Alliance invites students and staff to take part in the Train the Trainer programme  hosted at the University of Angers from May 11 to 13\, 2026. This 2.5-day course is designed to equip participants with the knowledge\, skills\, and attitudes needed to facilitate inclusive\, democratic\, and co-creative learning processes\, with a strong focus on participatory methodologies. Throughout the programme\, participants will engage in hands-on activities\, collaborative sessions\, and practical workshops aimed at developing facilitation skills and designing participatory learning experiences. After completing the training\, participants are expected to transfer and replicate these methods within their home institutions by organising local workshops and initiatives\, contributing to the broader impact of EU GREEN’s approach to sustainability and engagement. The course will take place at the Université d’Angers – Campus Saint Serge and will include interactive formats such as World Café sessions\, participatory design activities\, and simulated workshops\, offering a dynamic and experiential learning environment.  Registration open until April 19 								\n				\n					\n				\n		\n				\n				\n									\n					\n						\n									REGISTRATION HERE\n					\n					\n				\n								\n				\n				\n				\n									\n					\n						\n									DOWNLOAD FULL INFO
URL:https://eugreenalliance.eu/event/eu-green-sports-event-hig-sweden/
LOCATION:Högskolan i Gävle\, Sweden
CATEGORIES:EU GREEN Students event
ATTACH;FMTTYPE=image/png:https://eugreenalliance.eu/wp-content/uploads/2024/10/2-2.png
END:VEVENT
BEGIN:VEVENT
DTSTART;TZID=Europe/Madrid:20250204T120000
DTEND;TZID=Europe/Madrid:20250204T133000
DTSTAMP:20260422T001946
CREATED:20250129T080120Z
LAST-MODIFIED:20250129T080149Z
UID:97422-1738670400-1738675800@eugreenalliance.eu
SUMMARY:Yoga and mindfulness for balance in life - (UG) (Sweden)
DESCRIPTION:The EU GREEN Alliance invites students and staff to take part in the Train the Trainer programme  hosted at the University of Angers from May 11 to 13\, 2026. This 2.5-day course is designed to equip participants with the knowledge\, skills\, and attitudes needed to facilitate inclusive\, democratic\, and co-creative learning processes\, with a strong focus on participatory methodologies. Throughout the programme\, participants will engage in hands-on activities\, collaborative sessions\, and practical workshops aimed at developing facilitation skills and designing participatory learning experiences. After completing the training\, participants are expected to transfer and replicate these methods within their home institutions by organising local workshops and initiatives\, contributing to the broader impact of EU GREEN’s approach to sustainability and engagement. The course will take place at the Université d’Angers – Campus Saint Serge and will include interactive formats such as World Café sessions\, participatory design activities\, and simulated workshops\, offering a dynamic and experiential learning environment.  Registration open until April 19 								\n				\n					\n				\n		\n				\n				\n									\n					\n						\n									REGISTRATION HERE\n					\n					\n				\n								\n				\n				\n				\n									\n					\n						\n									DOWNLOAD FULL INFO
URL:https://eugreenalliance.eu/event/yoga-and-mindfulness-for-balance-in-life-ug-sweden/
LOCATION:Högskolan i Gävle\, Sweden
ATTACH;FMTTYPE=image/webp:https://eugreenalliance.eu/wp-content/uploads/2025/01/Yoga.webp
END:VEVENT
BEGIN:VEVENT
DTSTART;TZID=Europe/Madrid:20250207T120000
DTEND;TZID=Europe/Madrid:20250207T133000
DTSTAMP:20260422T001946
CREATED:20250114T180847Z
LAST-MODIFIED:20250114T180847Z
UID:96866-1738929600-1738935000@eugreenalliance.eu
SUMMARY:EU GREEN AMBASSADOR LUNCH TALK #4
DESCRIPTION:The EU GREEN Alliance invites students and staff to take part in the Train the Trainer programme  hosted at the University of Angers from May 11 to 13\, 2026. This 2.5-day course is designed to equip participants with the knowledge\, skills\, and attitudes needed to facilitate inclusive\, democratic\, and co-creative learning processes\, with a strong focus on participatory methodologies. Throughout the programme\, participants will engage in hands-on activities\, collaborative sessions\, and practical workshops aimed at developing facilitation skills and designing participatory learning experiences. After completing the training\, participants are expected to transfer and replicate these methods within their home institutions by organising local workshops and initiatives\, contributing to the broader impact of EU GREEN’s approach to sustainability and engagement. The course will take place at the Université d’Angers – Campus Saint Serge and will include interactive formats such as World Café sessions\, participatory design activities\, and simulated workshops\, offering a dynamic and experiential learning environment.  Registration open until April 19 								\n				\n					\n				\n		\n				\n				\n									\n					\n						\n									REGISTRATION HERE\n					\n					\n				\n								\n				\n				\n				\n									\n					\n						\n									DOWNLOAD FULL INFO
URL:https://eugreenalliance.eu/event/eu-green-ambassador-lunch-talk-4/
LOCATION:ONLINE
CATEGORIES:EU GREEN Students event,Student event
ATTACH;FMTTYPE=image/png:https://eugreenalliance.eu/wp-content/uploads/2025/01/BANNER-WEB-1.png
END:VEVENT
BEGIN:VEVENT
DTSTART;TZID=Europe/Madrid:20250210T110000
DTEND;TZID=Europe/Madrid:20250210T123000
DTSTAMP:20260422T001946
CREATED:20250112T103009Z
LAST-MODIFIED:20250112T103009Z
UID:96724-1739185200-1739190600@eugreenalliance.eu
SUMMARY:INSECTOPIA WEBINAR: From Artificial Nests to AI Trail Cameras: New Technology for Studying and Monitoring Insect Biodiversity
DESCRIPTION:The EU GREEN Alliance invites students and staff to take part in the Train the Trainer programme  hosted at the University of Angers from May 11 to 13\, 2026. This 2.5-day course is designed to equip participants with the knowledge\, skills\, and attitudes needed to facilitate inclusive\, democratic\, and co-creative learning processes\, with a strong focus on participatory methodologies. Throughout the programme\, participants will engage in hands-on activities\, collaborative sessions\, and practical workshops aimed at developing facilitation skills and designing participatory learning experiences. After completing the training\, participants are expected to transfer and replicate these methods within their home institutions by organising local workshops and initiatives\, contributing to the broader impact of EU GREEN’s approach to sustainability and engagement. The course will take place at the Université d’Angers – Campus Saint Serge and will include interactive formats such as World Café sessions\, participatory design activities\, and simulated workshops\, offering a dynamic and experiential learning environment.  Registration open until April 19 								\n				\n					\n				\n		\n				\n				\n									\n					\n						\n									REGISTRATION HERE\n					\n					\n				\n								\n				\n				\n				\n									\n					\n						\n									DOWNLOAD FULL INFO
URL:https://eugreenalliance.eu/event/insectopia-webinar-from-artificial-nests-to-ai-trail-cameras-new-technology-for-studying-and-monitoring-insect-biodiversity/
LOCATION:ONLINE
CATEGORIES:Webinar
END:VEVENT
BEGIN:VEVENT
DTSTART;TZID=Europe/Madrid:20250212T160000
DTEND;TZID=Europe/Madrid:20250212T170000
DTSTAMP:20260422T001946
CREATED:20250204T125345Z
LAST-MODIFIED:20250204T125345Z
UID:97656-1739376000-1739379600@eugreenalliance.eu
SUMMARY:RESEARCH WEBINAR: Biological invasions – What does it mean for European phytopathology?
DESCRIPTION:The EU GREEN Alliance invites students and staff to take part in the Train the Trainer programme  hosted at the University of Angers from May 11 to 13\, 2026. This 2.5-day course is designed to equip participants with the knowledge\, skills\, and attitudes needed to facilitate inclusive\, democratic\, and co-creative learning processes\, with a strong focus on participatory methodologies. Throughout the programme\, participants will engage in hands-on activities\, collaborative sessions\, and practical workshops aimed at developing facilitation skills and designing participatory learning experiences. After completing the training\, participants are expected to transfer and replicate these methods within their home institutions by organising local workshops and initiatives\, contributing to the broader impact of EU GREEN’s approach to sustainability and engagement. The course will take place at the Université d’Angers – Campus Saint Serge and will include interactive formats such as World Café sessions\, participatory design activities\, and simulated workshops\, offering a dynamic and experiential learning environment.  Registration open until April 19 								\n				\n					\n				\n		\n				\n				\n									\n					\n						\n									REGISTRATION HERE\n					\n					\n				\n								\n				\n				\n				\n									\n					\n						\n									DOWNLOAD FULL INFO
URL:https://eugreenalliance.eu/event/research-webinar-biological-invasions-what-does-it-mean-for-european-phytopathology/
LOCATION:ONLINE
CATEGORIES:Webinar
ATTACH;FMTTYPE=image/jpeg:https://eugreenalliance.eu/wp-content/uploads/2025/02/Imagen-de-WhatsApp-2025-02-04-a-las-13.49.15_0e013f1c.jpg
END:VEVENT
BEGIN:VEVENT
DTSTART;TZID=Europe/Madrid:20250214T120000
DTEND;TZID=Europe/Madrid:20250214T133000
DTSTAMP:20260422T001946
CREATED:20250114T180850Z
LAST-MODIFIED:20250114T180850Z
UID:96867-1739534400-1739539800@eugreenalliance.eu
SUMMARY:EU GREEN AMBASSADOR LUNCH TALK #5
DESCRIPTION:The EU GREEN Alliance invites students and staff to take part in the Train the Trainer programme  hosted at the University of Angers from May 11 to 13\, 2026. This 2.5-day course is designed to equip participants with the knowledge\, skills\, and attitudes needed to facilitate inclusive\, democratic\, and co-creative learning processes\, with a strong focus on participatory methodologies. Throughout the programme\, participants will engage in hands-on activities\, collaborative sessions\, and practical workshops aimed at developing facilitation skills and designing participatory learning experiences. After completing the training\, participants are expected to transfer and replicate these methods within their home institutions by organising local workshops and initiatives\, contributing to the broader impact of EU GREEN’s approach to sustainability and engagement. The course will take place at the Université d’Angers – Campus Saint Serge and will include interactive formats such as World Café sessions\, participatory design activities\, and simulated workshops\, offering a dynamic and experiential learning environment.  Registration open until April 19 								\n				\n					\n				\n		\n				\n				\n									\n					\n						\n									REGISTRATION HERE\n					\n					\n				\n								\n				\n				\n				\n									\n					\n						\n									DOWNLOAD FULL INFO
URL:https://eugreenalliance.eu/event/eu-green-ambassador-lunch-talk-5/
LOCATION:ONLINE
CATEGORIES:EU GREEN Students event,Student event
ATTACH;FMTTYPE=image/png:https://eugreenalliance.eu/wp-content/uploads/2025/01/BANNER-WEB-1.png
END:VEVENT
BEGIN:VEVENT
DTSTART;TZID=Europe/Madrid:20250220T130000
DTEND;TZID=Europe/Madrid:20250220T134500
DTSTAMP:20260422T001946
CREATED:20250207T112533Z
LAST-MODIFIED:20250207T112533Z
UID:97723-1740056400-1740059100@eugreenalliance.eu
SUMMARY:STAKEHOLDER LECTURE SERIES:  Developing internal capacities to meet external challenges
DESCRIPTION:The EU GREEN Alliance invites students and staff to take part in the Train the Trainer programme  hosted at the University of Angers from May 11 to 13\, 2026. This 2.5-day course is designed to equip participants with the knowledge\, skills\, and attitudes needed to facilitate inclusive\, democratic\, and co-creative learning processes\, with a strong focus on participatory methodologies. Throughout the programme\, participants will engage in hands-on activities\, collaborative sessions\, and practical workshops aimed at developing facilitation skills and designing participatory learning experiences. After completing the training\, participants are expected to transfer and replicate these methods within their home institutions by organising local workshops and initiatives\, contributing to the broader impact of EU GREEN’s approach to sustainability and engagement. The course will take place at the Université d’Angers – Campus Saint Serge and will include interactive formats such as World Café sessions\, participatory design activities\, and simulated workshops\, offering a dynamic and experiential learning environment.  Registration open until April 19 								\n				\n					\n				\n		\n				\n				\n									\n					\n						\n									REGISTRATION HERE\n					\n					\n				\n								\n				\n				\n				\n									\n					\n						\n									DOWNLOAD FULL INFO
URL:https://eugreenalliance.eu/event/stakeholder-lecture-series-developing-internal-capacities-to-meet-external-challenges/
LOCATION:ONLINE
CATEGORIES:Webinar
ATTACH;FMTTYPE=image/png:https://eugreenalliance.eu/wp-content/uploads/2025/02/3.png
END:VEVENT
BEGIN:VEVENT
DTSTART;TZID=Europe/Madrid:20250221T120000
DTEND;TZID=Europe/Madrid:20250221T133000
DTSTAMP:20260422T001946
CREATED:20250218T113554Z
LAST-MODIFIED:20250218T113554Z
UID:98038-1740139200-1740144600@eugreenalliance.eu
SUMMARY:EU GREEN AMBASSADOR LUNCH TALK #6
DESCRIPTION:The EU GREEN Alliance invites students and staff to take part in the Train the Trainer programme  hosted at the University of Angers from May 11 to 13\, 2026. This 2.5-day course is designed to equip participants with the knowledge\, skills\, and attitudes needed to facilitate inclusive\, democratic\, and co-creative learning processes\, with a strong focus on participatory methodologies. Throughout the programme\, participants will engage in hands-on activities\, collaborative sessions\, and practical workshops aimed at developing facilitation skills and designing participatory learning experiences. After completing the training\, participants are expected to transfer and replicate these methods within their home institutions by organising local workshops and initiatives\, contributing to the broader impact of EU GREEN’s approach to sustainability and engagement. The course will take place at the Université d’Angers – Campus Saint Serge and will include interactive formats such as World Café sessions\, participatory design activities\, and simulated workshops\, offering a dynamic and experiential learning environment.  Registration open until April 19 								\n				\n					\n				\n		\n				\n				\n									\n					\n						\n									REGISTRATION HERE\n					\n					\n				\n								\n				\n				\n				\n									\n					\n						\n									DOWNLOAD FULL INFO
URL:https://eugreenalliance.eu/event/eu-green-ambassador-lunch-talk-6-2/
LOCATION:ONLINE
CATEGORIES:EU GREEN Students event,Student event
ATTACH;FMTTYPE=image/jpeg:https://eugreenalliance.eu/wp-content/uploads/2025/02/Imagen-de-WhatsApp-2025-02-18-a-las-12.32.29_a2af6235.jpg
END:VEVENT
BEGIN:VEVENT
DTSTART;TZID=Europe/Madrid:20250225T110000
DTEND;TZID=Europe/Madrid:20250225T123000
DTSTAMP:20260422T001946
CREATED:20250112T103117Z
LAST-MODIFIED:20250112T103117Z
UID:96726-1740481200-1740486600@eugreenalliance.eu
SUMMARY:INSECTOPIA WEBINAR: Rewarding Farmland Pollinator/Insect Diversity Through Results-Based Agri-Environment Schemes
DESCRIPTION:The EU GREEN Alliance invites students and staff to take part in the Train the Trainer programme  hosted at the University of Angers from May 11 to 13\, 2026. This 2.5-day course is designed to equip participants with the knowledge\, skills\, and attitudes needed to facilitate inclusive\, democratic\, and co-creative learning processes\, with a strong focus on participatory methodologies. Throughout the programme\, participants will engage in hands-on activities\, collaborative sessions\, and practical workshops aimed at developing facilitation skills and designing participatory learning experiences. After completing the training\, participants are expected to transfer and replicate these methods within their home institutions by organising local workshops and initiatives\, contributing to the broader impact of EU GREEN’s approach to sustainability and engagement. The course will take place at the Université d’Angers – Campus Saint Serge and will include interactive formats such as World Café sessions\, participatory design activities\, and simulated workshops\, offering a dynamic and experiential learning environment.  Registration open until April 19 								\n				\n					\n				\n		\n				\n				\n									\n					\n						\n									REGISTRATION HERE\n					\n					\n				\n								\n				\n				\n				\n									\n					\n						\n									DOWNLOAD FULL INFO
URL:https://eugreenalliance.eu/event/insectopia-webinar-rewarding-farmland-pollinator-insect-diversity-through-results-based-agri-environment-schemes/
LOCATION:ONLINE
CATEGORIES:Webinar
END:VEVENT
BEGIN:VEVENT
DTSTART;TZID=Europe/Madrid:20250226T143000
DTEND;TZID=Europe/Madrid:20250226T153000
DTSTAMP:20260422T001946
CREATED:20250221T133911Z
LAST-MODIFIED:20250225T081010Z
UID:98159-1740580200-1740583800@eugreenalliance.eu
SUMMARY:MASTERCLASS: "Inclusion: Insights for its ongoing maintenance"
DESCRIPTION:The EU GREEN Alliance invites students and staff to take part in the Train the Trainer programme  hosted at the University of Angers from May 11 to 13\, 2026. This 2.5-day course is designed to equip participants with the knowledge\, skills\, and attitudes needed to facilitate inclusive\, democratic\, and co-creative learning processes\, with a strong focus on participatory methodologies. Throughout the programme\, participants will engage in hands-on activities\, collaborative sessions\, and practical workshops aimed at developing facilitation skills and designing participatory learning experiences. After completing the training\, participants are expected to transfer and replicate these methods within their home institutions by organising local workshops and initiatives\, contributing to the broader impact of EU GREEN’s approach to sustainability and engagement. The course will take place at the Université d’Angers – Campus Saint Serge and will include interactive formats such as World Café sessions\, participatory design activities\, and simulated workshops\, offering a dynamic and experiential learning environment.  Registration open until April 19 								\n				\n					\n				\n		\n				\n				\n									\n					\n						\n									REGISTRATION HERE\n					\n					\n				\n								\n				\n				\n				\n									\n					\n						\n									DOWNLOAD FULL INFO
URL:https://eugreenalliance.eu/event/masterclass-inclusion-insights-for-its-ongoing-maintenance/
LOCATION:ONLINE
CATEGORIES:Masterclass
ATTACH;FMTTYPE=image/png:https://eugreenalliance.eu/wp-content/uploads/2025/02/5.png
END:VEVENT
BEGIN:VEVENT
DTSTART;TZID=Europe/Madrid:20250228T110000
DTEND;TZID=Europe/Madrid:20250228T123000
DTSTAMP:20260422T001946
CREATED:20250112T103211Z
LAST-MODIFIED:20250112T103211Z
UID:96728-1740740400-1740745800@eugreenalliance.eu
SUMMARY:INSECTOPIA WEBINAR: How Citizen Science Can Help the Study of Pollinators
DESCRIPTION:The EU GREEN Alliance invites students and staff to take part in the Train the Trainer programme  hosted at the University of Angers from May 11 to 13\, 2026. This 2.5-day course is designed to equip participants with the knowledge\, skills\, and attitudes needed to facilitate inclusive\, democratic\, and co-creative learning processes\, with a strong focus on participatory methodologies. Throughout the programme\, participants will engage in hands-on activities\, collaborative sessions\, and practical workshops aimed at developing facilitation skills and designing participatory learning experiences. After completing the training\, participants are expected to transfer and replicate these methods within their home institutions by organising local workshops and initiatives\, contributing to the broader impact of EU GREEN’s approach to sustainability and engagement. The course will take place at the Université d’Angers – Campus Saint Serge and will include interactive formats such as World Café sessions\, participatory design activities\, and simulated workshops\, offering a dynamic and experiential learning environment.  Registration open until April 19 								\n				\n					\n				\n		\n				\n				\n									\n					\n						\n									REGISTRATION HERE\n					\n					\n				\n								\n				\n				\n				\n									\n					\n						\n									DOWNLOAD FULL INFO
URL:https://eugreenalliance.eu/event/insectopia-webinar-how-citizen-science-can-help-the-study-of-pollinators/
LOCATION:ONLINE
CATEGORIES:Webinar
END:VEVENT
BEGIN:VEVENT
DTSTART;TZID=Europe/Madrid:20250228T120000
DTEND;TZID=Europe/Madrid:20250228T133000
DTSTAMP:20260422T001946
CREATED:20250114T180858Z
LAST-MODIFIED:20250117T102834Z
UID:96869-1740744000-1740749400@eugreenalliance.eu
SUMMARY:EU GREEN AMBASSADOR LUNCH TALK #7
DESCRIPTION:The EU GREEN Alliance invites students and staff to take part in the Train the Trainer programme  hosted at the University of Angers from May 11 to 13\, 2026. This 2.5-day course is designed to equip participants with the knowledge\, skills\, and attitudes needed to facilitate inclusive\, democratic\, and co-creative learning processes\, with a strong focus on participatory methodologies. Throughout the programme\, participants will engage in hands-on activities\, collaborative sessions\, and practical workshops aimed at developing facilitation skills and designing participatory learning experiences. After completing the training\, participants are expected to transfer and replicate these methods within their home institutions by organising local workshops and initiatives\, contributing to the broader impact of EU GREEN’s approach to sustainability and engagement. The course will take place at the Université d’Angers – Campus Saint Serge and will include interactive formats such as World Café sessions\, participatory design activities\, and simulated workshops\, offering a dynamic and experiential learning environment.  Registration open until April 19 								\n				\n					\n				\n		\n				\n				\n									\n					\n						\n									REGISTRATION HERE\n					\n					\n				\n								\n				\n				\n				\n									\n					\n						\n									DOWNLOAD FULL INFO
URL:https://eugreenalliance.eu/event/eu-green-ambassador-lunch-talk-7/
LOCATION:ONLINE
CATEGORIES:EU GREEN Students event,Student event
ATTACH;FMTTYPE=image/png:https://eugreenalliance.eu/wp-content/uploads/2025/01/BANNER-WEB-1.png
END:VEVENT
END:VCALENDAR